

BEGIN:VCALENDAR
VERSION:2.0
PRODID:-//St. Johns Riverkeeper - ECPv6.15.20//NONSGML v1.0//EN
CALSCALE:GREGORIAN
METHOD:PUBLISH
X-WR-CALNAME:St. Johns Riverkeeper
X-ORIGINAL-URL:https://stjohnsriverkeeper.org
X-WR-CALDESC:Events for St. Johns Riverkeeper
REFRESH-INTERVAL;VALUE=DURATION:PT1H
X-Robots-Tag:noindex
X-PUBLISHED-TTL:PT1H
BEGIN:VTIMEZONE
TZID:America/New_York
BEGIN:DAYLIGHT
TZOFFSETFROM:-0500
TZOFFSETTO:-0400
TZNAME:EDT
DTSTART:20240310T070000
END:DAYLIGHT
BEGIN:STANDARD
TZOFFSETFROM:-0400
TZOFFSETTO:-0500
TZNAME:EST
DTSTART:20241103T060000
END:STANDARD
BEGIN:DAYLIGHT
TZOFFSETFROM:-0500
TZOFFSETTO:-0400
TZNAME:EDT
DTSTART:20250309T070000
END:DAYLIGHT
BEGIN:STANDARD
TZOFFSETFROM:-0400
TZOFFSETTO:-0500
TZNAME:EST
DTSTART:20251102T060000
END:STANDARD
BEGIN:DAYLIGHT
TZOFFSETFROM:-0500
TZOFFSETTO:-0400
TZNAME:EDT
DTSTART:20260308T070000
END:DAYLIGHT
BEGIN:STANDARD
TZOFFSETFROM:-0400
TZOFFSETTO:-0500
TZNAME:EST
DTSTART:20261101T060000
END:STANDARD
END:VTIMEZONE
BEGIN:VEVENT
DTSTART;TZID=America/New_York:20250118T150000
DTEND;TZID=America/New_York:20250118T160000
DTSTAMP:20260422T192219
CREATED:20250106T174507Z
LAST-MODIFIED:20250106T175918Z
UID:13541-1737212400-1737216000@stjohnsriverkeeper.org
SUMMARY:Life Lab: Right Plant\, Right Place
DESCRIPTION:Life Lab: Right Plant\, Right Place | Saturday\, January 18 from 3-4 p.m. | Jacksonville Public Library\, Maxville Branch (8375 Maxville Blvd)\nInterested in creating a more river-friendly yard this spring\, but not sure where to start? Join us for the first event in our River-Friendly Yards series with the Jacksonville Public Library: Right Plant\, Right Place. \nLocation\, location\, location! We will learn which plants to choose for your landscape and the correct place to plant them to maximize the health of our local ecosystem. \nRegister\nRegister here through the Jacksonville Public Library. You will need a free library card to register\, which you can obtain here. \nRiver-Friendly\nGet more river-friendly tips from St. Johns Riverkeeper!
URL:https://stjohnsriverkeeper.org/event/2025-01-life-lab-right-plant-right-place/
LOCATION:Jacksonville Public Library – Maxville Branch\, 8375 Maxville Blvd.\, Jacksonville\, FL\, 32234\, United States
CATEGORIES:Education
ATTACH;FMTTYPE=image/jpeg:https://stjohnsriverkeeper.org/wp-content/uploads/2025/01/2025-01-River-Friendly-Right-Plant-Right-Place-600x600-1.jpg
ORGANIZER;CN="Steph Morse":MAILTO:steph@stjohnsriverkeeper.org
END:VEVENT
BEGIN:VEVENT
DTSTART;TZID=America/New_York:20250119T100000
DTEND;TZID=America/New_York:20250119T120000
DTSTAMP:20260422T192219
CREATED:20250116T162928Z
LAST-MODIFIED:20250116T181544Z
UID:13604-1737280800-1737288000@stjohnsriverkeeper.org
SUMMARY:Rising Tides: McCoys Creek Cleanup
DESCRIPTION:Join Rising Tides young professionals for our monthly cleanup on McCoys Creek! As always\, all of our cleanups are RAIN or SHINE!  This month we’re cleaning up 168 Myrtle Ave from 10 a.m. – noon. All ages are welcome! \nWhat to Bring:\n\nFULL Reusable Water Bottle\nHat\, Sunglasses\, Sunscreen\nClosed toe shoes (required)\nRain boots\, work boots\, or waders are extremely helpful!\nOptional: Heavy duty gloves (if desired)\n\nCleanup gloves and bags will be provided by City of Jacksonville and Keep Jacksonville Beautiful. \nRSVP\nRSVP here to let us know you’re coming! \nIf you have any questions\, please contact Becca Vecera at rebecca@stjohnsriverkeeper.org.
URL:https://stjohnsriverkeeper.org/event/2025-01-rising-tides-mccoys-creek-cleanup/
LOCATION:168 S Myrtle Ave\, 168 S Myrtle Ave\, Jacksonville\, FL\, 32204\, United States
CATEGORIES:Get Your Feet Wet,Rising Tides,Volunteer
ATTACH;FMTTYPE=image/jpeg:https://stjohnsriverkeeper.org/wp-content/uploads/2025/01/2025-01-Rising-Tides-Cleanup-600x600-1.jpg
ORGANIZER;CN="Alicia Smith":MAILTO:Alicia818@hotmail.com
END:VEVENT
BEGIN:VEVENT
DTSTART;TZID=America/New_York:20250125T100000
DTEND;TZID=America/New_York:20250125T110000
DTSTAMP:20260422T192219
CREATED:20250123T220644Z
LAST-MODIFIED:20250123T220644Z
UID:13679-1737799200-1737802800@stjohnsriverkeeper.org
SUMMARY:18th Annual River Blessing
DESCRIPTION:18th Annual River Blessing | Saturday\, January 25 at 10 a.m. at Palatka Riverfront Park\nJoin Earth Kinship Kayak Tours & Nature Education\, St. Johns Riverkeeper\, Matanzas Riverkeeper and St Marys Riverkeeper at Palatka Riverfront Park\, located at 100 Memorial Parkway on Saturday\, January 25 for the 18th annual River Blessing. \nJoin us to share appreciation for the earth’s waters and offer a non-denominational blessing inspired by indigenous people. Started in 2008 by Lakota Elder Basil Braveheart\, the event will include words from the St. Johns\, Matanzas\, and St. Marys Riverkeepers about their connection to the waters. \nThis event is free and open to the public.
URL:https://stjohnsriverkeeper.org/event/18th-annual-river-blessing/
LOCATION:Palatka Riverfront Park\, 100 Memorial Pkwy\, Palatka\, FL\, 32177\, United States
CATEGORIES:Get Your Feet Wet
ATTACH;FMTTYPE=image/jpeg:https://stjohnsriverkeeper.org/wp-content/uploads/2025/01/2025-01-River-Blessing.jpg
END:VEVENT
END:VCALENDAR