

BEGIN:VCALENDAR
VERSION:2.0
PRODID:-//St. Johns Riverkeeper - ECPv6.15.20//NONSGML v1.0//EN
CALSCALE:GREGORIAN
METHOD:PUBLISH
X-ORIGINAL-URL:https://stjohnsriverkeeper.org
X-WR-CALDESC:Events for St. Johns Riverkeeper
REFRESH-INTERVAL;VALUE=DURATION:PT1H
X-Robots-Tag:noindex
X-PUBLISHED-TTL:PT1H
BEGIN:VTIMEZONE
TZID:America/New_York
BEGIN:DAYLIGHT
TZOFFSETFROM:-0500
TZOFFSETTO:-0400
TZNAME:EDT
DTSTART:20230312T070000
END:DAYLIGHT
BEGIN:STANDARD
TZOFFSETFROM:-0400
TZOFFSETTO:-0500
TZNAME:EST
DTSTART:20231105T060000
END:STANDARD
BEGIN:DAYLIGHT
TZOFFSETFROM:-0500
TZOFFSETTO:-0400
TZNAME:EDT
DTSTART:20240310T070000
END:DAYLIGHT
BEGIN:STANDARD
TZOFFSETFROM:-0400
TZOFFSETTO:-0500
TZNAME:EST
DTSTART:20241103T060000
END:STANDARD
BEGIN:DAYLIGHT
TZOFFSETFROM:-0500
TZOFFSETTO:-0400
TZNAME:EDT
DTSTART:20250309T070000
END:DAYLIGHT
BEGIN:STANDARD
TZOFFSETFROM:-0400
TZOFFSETTO:-0500
TZNAME:EST
DTSTART:20251102T060000
END:STANDARD
END:VTIMEZONE
BEGIN:VEVENT
DTSTART;TZID=America/New_York:20241207T090000
DTEND;TZID=America/New_York:20241207T120000
DTSTAMP:20260422T163455
CREATED:20240610T151058Z
LAST-MODIFIED:20240911T173144Z
UID:12987-1733562000-1733572800@stjohnsriverkeeper.org
SUMMARY:Riverview Park Service Day
DESCRIPTION:Riverview Park Service Day | Saturday\, December 7 | 9 a.m. – Noon | Riverview Park (9620 East Water Street)\nJoin St. Johns Riverkeeper for our monthly day of service at the lovely Riverview Park on the Trout River. As Riverview Park’s Official Park Stewards\, this is part of an ongoing effort to improve and maintain this important community resource connecting locals to our river on Jacksonville’s northside. \nVolunteers can expect to collect litter\, clear trails\, catalog and/or remove invasive plants\, and more as needed! Cleanup bags\, gloves and grabbers will be provided. \nUseful Items to Bring:\n\nFULL reusable water bottle\nClosed-toe shoes (Required. We HIGHLY recommend wearing rain boots! This park is prone to flooding and general sogginess.)\nSun protection (sunscreen\, hat\, sunglasses)\nBug spray\nWork/gardening gloves (cleanup gloves will be provided)\nSmall garden tools (trowels\, shovels\, etc.)\n\nRegister\nPlease register to let us know you’ll be joining us so we can plan accordingly.
URL:https://stjohnsriverkeeper.org/event/2024-12-riverview-park-service-day/
LOCATION:Riverview Park\, 9620 E Water St\, Jacksonville\, FL\, 32208
CATEGORIES:Get Your Feet Wet,Volunteer
ATTACH;FMTTYPE=image/jpeg:https://stjohnsriverkeeper.org/wp-content/uploads/2024/01/2024-05-Riverview-Park-Service-Day-600x600-1.jpg
ORGANIZER;CN="Steph Morse":MAILTO:steph@stjohnsriverkeeper.org
END:VEVENT
BEGIN:VEVENT
DTSTART;TZID=America/New_York:20241214T100000
DTEND;TZID=America/New_York:20241214T120000
DTSTAMP:20260422T163455
CREATED:20241210T183549Z
LAST-MODIFIED:20241210T184359Z
UID:13466-1734170400-1734177600@stjohnsriverkeeper.org
SUMMARY:River Oaks Park Education and Service Outing with San Marco Preservation Society
DESCRIPTION:River Oaks Park Education and Service Outing with San Marco Preservation Society | Saturday\, December 14\, 2024 | 10 a.m. – Noon | 1000 River Oaks Rd.\nJoin SJRK and the San Marco Preservation Society for an educational cleanup and outing at River Oaks Park! \nRegister\nRSVP to let us know you plan to join us. \nThis is a recreational\, educational\, and service outing for individuals who value neighborhood greenspaces and the St Johns River. The event will showcase the River Oaks Park in San Marco\, its lush plant life\, Craig Creek\, and the St Johns River. The event will illustrate the role the park plays in sustaining community vibrancy and resiliency. It will also illustrate the role the park and its creek play in sustaining St Johns River health. \nThe outing will begin at the bridge in River Oaks Park near Brookwood Road and proceed westward along Craig Creek to the St Johns River and then back to the bridge. The event will include a walk through the park to collect trash and debris with stops to discuss the park vegetation and the role it plays in sustaining river health. A master naturalist will identify native species to be maintained and invasive species to be removed. A representative from St Johns Riverkeeper will discuss the role of the park and Craig Creek in sustaining St Johns River health. \nWhat to Bring/Wear\n\nComfortable\, water-resistant shoes or boots (Especially if you plan to help pick up trash – the grassy areas of the park and the creek bank tend to be wet.)\nProtective clothing (hat\, sunglasses) and sunscreen\nFULL reusable water bottle\n\nThere are no restrooms and/or portlets in the park\, so plan accordingly. \nDirections and Parking\nThe address for River Oaks Park is 1000 River Oaks Road\, but the outing will begin at the bridge across Craig Creek at the East end of the park near Brookwood Road. Parking along Brookwood Road is limited\, so consider parking in the Southside Methodist Church parking area adjacent to San Jose Blvd and walking to the starting location. \nGPS Coordinates for Starting Location: 30°17.6990’N\, 81°38.9300’W
URL:https://stjohnsriverkeeper.org/event/2024-12-river-oaks-park-education-and-service-outing-with-san-marco-preservation-society/
LOCATION:River Oaks Park\, Jacksonville\, FL\, 32207\, United States
CATEGORIES:Get Your Feet Wet,Volunteer
ATTACH;FMTTYPE=image/jpeg:https://stjohnsriverkeeper.org/wp-content/uploads/2024/12/2024-12-River-Oaks-Park-Outing-1200x1200-1-e1733856226493.jpg
ORGANIZER;CN="Steph Morse":MAILTO:steph@stjohnsriverkeeper.org
END:VEVENT
BEGIN:VEVENT
DTSTART;TZID=America/New_York:20241215T100000
DTEND;TZID=America/New_York:20241215T120000
DTSTAMP:20260422T163455
CREATED:20240103T210355Z
LAST-MODIFIED:20240605T185728Z
UID:12271-1734256800-1734264000@stjohnsriverkeeper.org
SUMMARY:Rising Tides: McCoys Creek Cleanup & End of Year Celebration
DESCRIPTION:Join Rising Tides young professionals for our monthly cleanup on McCoys Creek! As always\, all of our cleanups are RAIN or SHINE!  This month we’re cleaning up the Northbank Riverwalk (111 Riverside Ave.) from 10 a.m. – noon\, near where McCoys Creek flows into the St. Johns River. We’ll be celebrating all that Rising Tides has accomplished in 2024. \nWhat to Bring:\n\nFULL Reusable Water Bottle\nHat\, Sunglasses\, Sunscreen\nClosed toe shoes (required)\nRain boots\, work boots\, or waders are extremely helpful!\nOptional: Heavy duty gloves (if desired)\n\nCleanup gloves and bags will be provided by City of Jacksonville and Keep Jacksonville Beautiful. \nRSVP\nRSVP here to let us know you’re coming! \nIf you have any questions\, please contact Steph Morse at steph@stjohnsriverkeeper.org.
URL:https://stjohnsriverkeeper.org/event/2024-12-rising-tides-mccoys-creek-cleanup-end-of-year-celebration/
LOCATION:Northbank Riverwalk\, 111 Riverside Avenue\, Jacksonville\, Florida\, 32204\, United States
CATEGORIES:Get Your Feet Wet,Rising Tides,Volunteer
ATTACH;FMTTYPE=image/jpeg:https://stjohnsriverkeeper.org/wp-content/uploads/2024/01/2024-12-Rising-Tides-Cleanup-600x600-1.jpg
ORGANIZER;CN="Alicia Smith":MAILTO:Alicia818@hotmail.com
END:VEVENT
END:VCALENDAR