

BEGIN:VCALENDAR
VERSION:2.0
PRODID:-//St. Johns Riverkeeper - ECPv6.15.20//NONSGML v1.0//EN
CALSCALE:GREGORIAN
METHOD:PUBLISH
X-WR-CALNAME:St. Johns Riverkeeper
X-ORIGINAL-URL:https://stjohnsriverkeeper.org
X-WR-CALDESC:Events for St. Johns Riverkeeper
REFRESH-INTERVAL;VALUE=DURATION:PT1H
X-Robots-Tag:noindex
X-PUBLISHED-TTL:PT1H
BEGIN:VTIMEZONE
TZID:America/New_York
BEGIN:DAYLIGHT
TZOFFSETFROM:-0500
TZOFFSETTO:-0400
TZNAME:EDT
DTSTART:20230312T070000
END:DAYLIGHT
BEGIN:STANDARD
TZOFFSETFROM:-0400
TZOFFSETTO:-0500
TZNAME:EST
DTSTART:20231105T060000
END:STANDARD
BEGIN:DAYLIGHT
TZOFFSETFROM:-0500
TZOFFSETTO:-0400
TZNAME:EDT
DTSTART:20240310T070000
END:DAYLIGHT
BEGIN:STANDARD
TZOFFSETFROM:-0400
TZOFFSETTO:-0500
TZNAME:EST
DTSTART:20241103T060000
END:STANDARD
BEGIN:DAYLIGHT
TZOFFSETFROM:-0500
TZOFFSETTO:-0400
TZNAME:EDT
DTSTART:20250309T070000
END:DAYLIGHT
BEGIN:STANDARD
TZOFFSETFROM:-0400
TZOFFSETTO:-0500
TZNAME:EST
DTSTART:20251102T060000
END:STANDARD
END:VTIMEZONE
BEGIN:VEVENT
DTSTART;TZID=America/New_York:20240901T090000
DTEND;TZID=America/New_York:20240901T120000
DTSTAMP:20260420T180840
CREATED:20240610T141853Z
LAST-MODIFIED:20240610T143207Z
UID:12981-1725181200-1725192000@stjohnsriverkeeper.org
SUMMARY:Riverview Park Service Day
DESCRIPTION:Join St. Johns Riverkeeper for our monthly day of service at the lovely Riverview Park on the Trout River. As Riverview Park’s Official Park Stewards\, this is part of an ongoing effort to improve and maintain this important community resource connecting locals to our river on Jacksonville’s northside. \nVolunteers can expect to collect litter\, clear trails\, catalog and/or remove invasive plants\, and more as needed! Cleanup bags\, gloves and grabbers will be provided. \nUseful Items to Bring:\n\nFULL reusable water bottle\nClosed-toe shoes (Required. We HIGHLY recommend wearing rain boots! This park is prone to flooding and general sogginess.)\nSun protection (sunscreen\, hat\, sunglasses)\nBug spray\nWork/gardening gloves (cleanup gloves will be provided)\nSmall garden tools (trowels\, shovels\, etc.)\n\nRegister\nPlease register to let us know you’ll be joining us so we can plan accordingly.
URL:https://stjohnsriverkeeper.org/event/2024-09-riverview-park-service-day/
LOCATION:Riverview Park\, 9620 E Water St\, Jacksonville\, FL\, 32208
CATEGORIES:Get Your Feet Wet,Volunteer
ATTACH;FMTTYPE=image/jpeg:https://stjohnsriverkeeper.org/wp-content/uploads/2024/01/2024-05-Riverview-Park-Service-Day-600x600-1.jpg
ORGANIZER;CN="Steph Morse":MAILTO:steph@stjohnsriverkeeper.org
END:VEVENT
BEGIN:VEVENT
DTSTART;TZID=America/New_York:20240913T130000
DTEND;TZID=America/New_York:20240913T150000
DTSTAMP:20260420T180840
CREATED:20240828T175652Z
LAST-MODIFIED:20240911T175254Z
UID:13210-1726232400-1726239600@stjohnsriverkeeper.org
SUMMARY:Henry Klutho Park Cleanup with With Love\, Jax
DESCRIPTION:Henry Klutho Park Cleanup with With Love\, Jax | Friday\, September 13\, 2024 from 1-3 p.m. at Henry Klutho Park\nHelp With Love\, Jax clean up Henry Klutho Park before their Dare to D.I.S.C. charity disc golf tournament! This scenic park just off Hogan’s Creek in the Springfield neighborhood of Jacksonville was named in honor of famed architect Henry J. Klutho. \nPark History\nThe Hogans Creek Improvement Project of 1929-30\, designed by architect Henry Klutho (1873-1964) and engineered by Charles Imeson\, turned much of the park grounds into a lovely Venetian-style promenade. The City renamed a portion of Springfield Park in 1984 to honor Mr. Klutho\, a Springfield resident whose high-rise buildings in downtown and Prairie School of architecture transformed Jacksonville after the Great Fire of 1901. \nRegister\nPlease register in advance so we can get an idea of how many volunteers to expect\, and to receive any event updates.
URL:https://stjohnsriverkeeper.org/event/2024-09-henry-klutho-park-cleanup-with-with-love-jax/
LOCATION:Henry Klutho Park\, 204 W 3rd St\, Jacksonville\, FL\, 32206\, United States
CATEGORIES:Get Your Feet Wet,Volunteer
ATTACH;FMTTYPE=image/jpeg:https://stjohnsriverkeeper.org/wp-content/uploads/2024/08/2024-09-Springfield-Cleanup-With-Love-Jax-600x600-2.jpg
ORGANIZER;CN="Steph Morse":MAILTO:steph@stjohnsriverkeeper.org
END:VEVENT
BEGIN:VEVENT
DTSTART;TZID=America/New_York:20240917T173000
DTEND;TZID=America/New_York:20240917T190000
DTSTAMP:20260420T180840
CREATED:20240828T152622Z
LAST-MODIFIED:20240905T162521Z
UID:13208-1726594200-1726599600@stjohnsriverkeeper.org
SUMMARY:Brewing Up Solutions: Duval County
DESCRIPTION:Brewing Up Solutions: Duval County | Tuesday\, September 17\, 2024 from 5:30-7 p.m. at Aardwolf Brewing Co. (1461 Hendricks Ave\, Jacksonville\, FL 32207)\nSt. Johns Riverkeeper (SJRK) is expanding its Brewing Up Solutions brewery series this year to be watershed-wide. We’re Brewing Up Solutions For the River with people who love the St. Johns from the headwaters to the mouth of the river. We began in the headwaters of the St. Johns River in Indian River County\, and will travel downstream stopping along the way until we reach the Atlantic Ocean in Mayport\, Duval County. Join us for monthly roundtable discussions that highlight various parts of our vibrant river\, adjacent watersheds\, and key figures along our journey. \nThe gathering begins at 5:30 p.m.\, and the conversation will begin at 6 p.m. \nBrewing Up Solutions is a series of community conversations with the St. Johns Riverkeeper and local experts about our local waterways\, threats to their health and solutions we need to implement. Come for a pint and for meaningful conversation on how we can all be part of the solution. \nOur final location for this series will be in Mayport. We have already visited Vero Beach\, Sanford\, St. Augustine and Palatka. \nRegister\nPlease RSVP here to let us know you’re coming and to receive any event updates. \nTopic: Resilient Jacksonville\nHost: Lisa Rinaman\, St. Johns Riverkeeper: The chief advocate and public’s voice for the St. Johns River\nHer responsibilities include holding regulatory agencies and those polluting the river accountable; identifying and advocating for solutions that will protect and restore the river; working with government entities\, businesses\, community leaders and citizens to resolve problems that impact the river’s health; and communicating with the media and the public to educate and raise awareness about important river-related issues. \nLisa was instrumental in the creation of Waterkeepers Florida\, a formal collaboration of 15 Waterkeeper Alliance programs united across the state. She is also one of the founding members of the Reunite the Rivers Coalition working to reconnect Silver Springs\, the Ocklawaha and the St. Johns as the Great Florida Riverway. In addition\, Lisa serves on the Florida Springs Council Board. \nShe enjoys Florida’s waters and natural wonders with her husband\, Mark\, and two boys\, Mark Jr. and August. \nSpecial Guest: Anne Coglianese\, The City of Jacksonville’s Chief Resilience Officer (CRO)\nAnne Coglianese is the Chief Resilience Officer for the City of Jacksonville. In this capacity\, Anne leads the development of resilience initiatives to ensure Jacksonville can adapt and thrive in the face of acute shocks and chronic stresses brought on by climate change. Prior to joining the City of Jacksonville\, Anne served as the Coastal Resilience Manager for the City of New Orleans where she implemented nature-based solutions to sea-level risk and coastal land loss. Anne’s previous experience also includes serving at the White House Council on Environmental Quality\, where she participated in the development of climate adaptation and resilience policies to meet the Obama Administration’s resilience goals.
URL:https://stjohnsriverkeeper.org/event/2024-09-brewing-up-solutions-st-johns-county/
LOCATION:Aardwolf Brewing Company\, 1461 Hendricks Avenue\, Jacksonville\, FL\, 32207\, United States
CATEGORIES:Advocacy,Middle Basin
ATTACH;FMTTYPE=image/jpeg:https://stjohnsriverkeeper.org/wp-content/uploads/2024/06/2024-Brewing-Up-Solutions-600x600-copy.jpg
ORGANIZER;CN="Soraya Aidinejad":MAILTO:soraya@stjohnsriverkeeper.org
END:VEVENT
BEGIN:VEVENT
DTSTART;TZID=America/New_York:20240921T080000
DTEND;TZID=America/New_York:20240921T100000
DTSTAMP:20260420T180840
CREATED:20240813T192632Z
LAST-MODIFIED:20240813T192632Z
UID:13190-1726905600-1726912800@stjohnsriverkeeper.org
SUMMARY:International Coastal Cleanup - Riverview Park
DESCRIPTION:International Coastal Cleanup | Saturday\, September 21 from 8-10 a.m. | Riverview Park\nJoin St. Johns Riverkeeper for our monthly day of service at the lovely Riverview Park on the Trout River. As Riverview Park’s Official Park Stewards\, this is part of an ongoing effort to improve and maintain this important community resource connecting locals to our river on Jacksonville’s northside. \nVolunteers can expect to collect litter\, clear trails\, catalog and/or remove invasive plants\, and more as needed! Cleanup bags\, gloves and grabbers will be provided. \nUseful Items to Bring:\n\nFULL reusable water bottle\nClosed-toe shoes (Required. We HIGHLY recommend wearing rain boots! This park is prone to flooding and general sogginess.)\nSun protection (sunscreen\, hat\, sunglasses)\nBug spray\nWork/gardening gloves (cleanup gloves will be provided)\nSmall garden tools (trowels\, shovels\, etc.)\n\n\nSafety Precautions:\n\nEveryone must register/sign a liability waiver to participate.\nAn adult must accompany youth under 18 years of age.\nStay together and work in teams of at least two people.\nWatch your footing\, avoid steep embankments\, and use caution when walking through tall grass or brush.\nDo not use your bare hands to pick up broken glass or sharp items. Trash grabbers will be available.\nLeave hazardous items\, such as syringes or dead animals\, in place and notify the Site Captain.\nDo not try to pick up items too heavy for you to lift. When in doubt\, seek help.\nRespect wildlife and keep your distance.\nTake breaks as needed\, protect yourself from the sun\, and drink plenty of water.\nMake sure trash bags are not too full to close and secure.\nKeep tires separate from the trash bags\n\nRSVP\nPlease RSVP here to let us know you’re joining us.
URL:https://stjohnsriverkeeper.org/event/2024-09-international-coastal-cleanup-riverview-park/
LOCATION:Riverview Park\, 9620 E Water St\, Jacksonville\, FL\, 32208
CATEGORIES:Get Your Feet Wet,Volunteer
ATTACH;FMTTYPE=image/jpeg:https://stjohnsriverkeeper.org/wp-content/uploads/2023/11/2023-12-Riverview-Park-Service-Day-600x600-1.jpg
ORGANIZER;CN="Steph Morse":MAILTO:steph@stjohnsriverkeeper.org
END:VEVENT
BEGIN:VEVENT
DTSTART;TZID=America/New_York:20240921T090000
DTEND;TZID=America/New_York:20240921T110000
DTSTAMP:20260420T180840
CREATED:20240103T203029Z
LAST-MODIFIED:20240911T181529Z
UID:12265-1726909200-1726916400@stjohnsriverkeeper.org
SUMMARY:Rising Tides: McCoys Creek Cleanup
DESCRIPTION:Join Rising Tides young professionals for our monthly cleanup on McCoys Creek! As always\, all of our cleanups are RAIN or SHINE!  This month we’re cleaning up Hollybrook Park from 9-11 a.m. as part of the International Coastal Cleanup. All ages are welcome! \nWhat to Bring:\n\nFULL Reusable Water Bottle\nHat\, Sunglasses\, Sunscreen\nClosed toe shoes (required)\nRain boots\, work boots\, or waders are extremely helpful!\nOptional: Heavy duty gloves (if desired)\n\nCleanup gloves and bags will be provided by City of Jacksonville and Keep Jacksonville Beautiful. \nRSVP\nRSVP here to let us know you’re coming! \nIf you have any questions\, please contact Steph Morse at steph@stjohnsriverkeeper.org.
URL:https://stjohnsriverkeeper.org/event/2024-09-rising-tides-mccoys-creek-cleanup/
LOCATION:Hollybrook Park\, 319 Cherokee Street\, Jacksonville\, FL\, 32254
CATEGORIES:Get Your Feet Wet,Rising Tides,Volunteer
ATTACH;FMTTYPE=image/jpeg:https://stjohnsriverkeeper.org/wp-content/uploads/2024/01/2024-09-Rising-Tides-Cleanup-600x600-newfont.jpg
ORGANIZER;CN="Alicia Smith":MAILTO:Alicia818@hotmail.com
END:VEVENT
BEGIN:VEVENT
DTSTART;TZID=America/New_York:20240928T090000
DTEND;TZID=America/New_York:20240928T120000
DTSTAMP:20260420T180840
CREATED:20240910T164244Z
LAST-MODIFIED:20240910T164244Z
UID:13200-1727514000-1727524800@stjohnsriverkeeper.org
SUMMARY:Vertical Oyster Garden Workshop with CCA Florida & Jacksonville University MSRI
DESCRIPTION:CCA Florida is teaming up with St. Johns RIVERKEEPER and the Marine Science Research Institute at Jacksonville University to launch a Vertical Oyster Garden (VOG) program in the Jacksonville area. Vertical Oyster Gardens consist of recycled oyster shells that are strung together to create habitat for new oysters along with many other species of marine invertebrates. A single adult oyster has the ability to filter up to 50 gallons of water per day and each VOG can accumulate dozens of new oysters in just a few months. The goal is to distribute hundreds of VOGs throughout the Jacksonville area to improve water quality and create new oyster habitats. The Marine Science Research Institute at Jacksonville University will be incorporating a research aspect into this project with plans to monitor the VOGs following the deployments. The first step is an assembly workshop to build the first batch of VOGs. \nRegister\nPlease RSVP here. This workshop is limited to the first 40 volunteers that sign up.
URL:https://stjohnsriverkeeper.org/event/2024-vertical-oyster-garden-workshop-with-cca-florida-jacksonville-university-msri/
LOCATION:JU Marine Science Research Institute Bldg.\, Marine Science Research Institute\, River Road\, Jacksonville\, FL\, 32211\, United States
CATEGORIES:Advocacy,Get Your Feet Wet,Volunteer
ATTACH;FMTTYPE=image/jpeg:https://stjohnsriverkeeper.org/wp-content/uploads/2024/08/2024-09-Vertical-Oyster-Garden-VOG-Workshop-600x600-1.jpg
ORGANIZER;CN="Steph Morse":MAILTO:steph@stjohnsriverkeeper.org
END:VEVENT
BEGIN:VEVENT
DTSTART;TZID=America/New_York:20240929T100000
DTEND;TZID=America/New_York:20240929T120000
DTSTAMP:20260420T180840
CREATED:20240916T184355Z
LAST-MODIFIED:20240924T182954Z
UID:13275-1727604000-1727611200@stjohnsriverkeeper.org
SUMMARY:World Rivers Day with MOSH
DESCRIPTION:World Rivers Day Cleanup with MOSH | Sunday\, September 29 | 10 a.m. – Noon | Museum of Science and History (MOSH)\nJoin St. Johns Riverkeeper and MOSH as we celebrate World Rivers Day! Participate in a cleanup along the Southbank Riverwalk\, take part in some river exploration games\, and learn more about our beautiful St. Johns River. \nRegister for the cleanup here. \nWorld Rivers Day Presentation with Dr. Gerry Pinto | 12:35-1:35 p.m. | MOSH Auditorium\nThe morning’s activities will be followed by an educational presentation by Jacksonville University’s Dr. Gerry Pinto. This presentation will feature his latest research on the St. Johns River\, manatees\, and more. \nRegister for the presentation here. Capacity is limited. \nIf you participate in the cleanup\, you will be granted free admission for the presentation (but please do register in advance for the presentation as well). If you just want to attend the presentation\, you will need to pay admission pricing to enter MOSH.
URL:https://stjohnsriverkeeper.org/event/2024-09-world-rivers-day-cleanup-with-mosh/
LOCATION:Museum of Science and History\, 1025 Museum Cir\, Jacksonville\, FL\, 32207\, United States
CATEGORIES:Education,Get Your Feet Wet
ATTACH;FMTTYPE=image/jpeg:https://stjohnsriverkeeper.org/wp-content/uploads/2024/09/2024-World-Rivers-Day-MOSH-600x600-1.jpg
ORGANIZER;CN="Steph Morse":MAILTO:steph@stjohnsriverkeeper.org
END:VEVENT
END:VCALENDAR