

BEGIN:VCALENDAR
VERSION:2.0
PRODID:-//St. Johns Riverkeeper - ECPv6.15.20//NONSGML v1.0//EN
CALSCALE:GREGORIAN
METHOD:PUBLISH
X-WR-CALNAME:St. Johns Riverkeeper
X-ORIGINAL-URL:https://stjohnsriverkeeper.org
X-WR-CALDESC:Events for St. Johns Riverkeeper
REFRESH-INTERVAL;VALUE=DURATION:PT1H
X-Robots-Tag:noindex
X-PUBLISHED-TTL:PT1H
BEGIN:VTIMEZONE
TZID:America/New_York
BEGIN:DAYLIGHT
TZOFFSETFROM:-0500
TZOFFSETTO:-0400
TZNAME:EDT
DTSTART:20230312T070000
END:DAYLIGHT
BEGIN:STANDARD
TZOFFSETFROM:-0400
TZOFFSETTO:-0500
TZNAME:EST
DTSTART:20231105T060000
END:STANDARD
BEGIN:DAYLIGHT
TZOFFSETFROM:-0500
TZOFFSETTO:-0400
TZNAME:EDT
DTSTART:20240310T070000
END:DAYLIGHT
BEGIN:STANDARD
TZOFFSETFROM:-0400
TZOFFSETTO:-0500
TZNAME:EST
DTSTART:20241103T060000
END:STANDARD
BEGIN:DAYLIGHT
TZOFFSETFROM:-0500
TZOFFSETTO:-0400
TZNAME:EDT
DTSTART:20250309T070000
END:DAYLIGHT
BEGIN:STANDARD
TZOFFSETFROM:-0400
TZOFFSETTO:-0500
TZNAME:EST
DTSTART:20251102T060000
END:STANDARD
END:VTIMEZONE
BEGIN:VEVENT
DTSTART;TZID=America/New_York:20240602T090000
DTEND;TZID=America/New_York:20240602T120000
DTSTAMP:20260420T164139
CREATED:20240508T175047Z
LAST-MODIFIED:20240508T175047Z
UID:12901-1717318800-1717329600@stjohnsriverkeeper.org
SUMMARY:Riverview Park Service Day
DESCRIPTION:Join St. Johns Riverkeeper for our monthly day of service at the lovely Riverview Park on the Trout River. As Riverview Park’s Official Park Stewards\, this is part of an ongoing effort to improve and maintain this important community resource connecting locals to our river on Jacksonville’s northside. \nVolunteers can expect to collect litter\, clear trails\, catalog and/or remove invasive plants\, and more as needed! Cleanup bags\, gloves and grabbers will be provided. \nUseful Items to Bring:\n\nFULL reusable water bottle\nClosed-toe shoes (Required. We HIGHLY recommend wearing rain boots! This park is prone to flooding and general sogginess.)\nSun protection (sunscreen\, hat\, sunglasses)\nBug spray\nWork/gardening gloves (cleanup gloves will be provided)\nSmall garden tools (trowels\, shovels\, etc.)\n\nRegister\nPlease register to let us know you’ll be joining us so we can plan accordingly.
URL:https://stjohnsriverkeeper.org/event/2024-06-riverview-park-service-day/
LOCATION:Riverview Park\, 9620 E Water St\, Jacksonville\, FL\, 32208
CATEGORIES:Get Your Feet Wet,Volunteer
ATTACH;FMTTYPE=image/jpeg:https://stjohnsriverkeeper.org/wp-content/uploads/2024/01/2024-05-Riverview-Park-Service-Day-600x600-1.jpg
ORGANIZER;CN="Steph Morse":MAILTO:steph@stjohnsriverkeeper.org
END:VEVENT
BEGIN:VEVENT
DTSTART;TZID=America/New_York:20240616T100000
DTEND;TZID=America/New_York:20240616T120000
DTSTAMP:20260420T164139
CREATED:20240605T151707Z
LAST-MODIFIED:20240605T171047Z
UID:12962-1718532000-1718539200@stjohnsriverkeeper.org
SUMMARY:Rising Tides: McCoys Creek Cleanup
DESCRIPTION:Join Rising Tides young professionals for our monthly cleanup on McCoys Creek! As always\, all of our cleanups are RAIN or SHINE!  This month we’re cleaning up the Northbank Riverwalk (111 Riverside Ave.) from 10 a.m. – noon\, near where McCoys Creek flows into the St. Johns River. All ages are welcome! \nWhat to Bring:\n\nFULL Reusable Water Bottle\nHat\, Sunglasses\, Sunscreen\nClosed toe shoes (required)\nRain boots\, work boots\, or waders are extremely helpful!\nOptional: Heavy duty gloves (if desired)\n\nCleanup gloves and bags will be provided by City of Jacksonville and Keep Jacksonville Beautiful. \nRSVP\nRSVP here to let us know you’re coming! \nIf you have any questions\, please contact Steph Morse at steph@stjohnsriverkeeper.org. \nParking\nYou can find parking by the Riverwalk at the end of Jackson street to the left (past the YMCA and Haskell buildings and their lots).
URL:https://stjohnsriverkeeper.org/event/2024-06-rising-tides-mccoys-creek-cleanup/
LOCATION:Northbank Riverwalk\, 111 Riverside Avenue\, Jacksonville\, Florida\, 32204\, United States
CATEGORIES:Get Your Feet Wet,Rising Tides,Volunteer
ATTACH;FMTTYPE=image/jpeg:https://stjohnsriverkeeper.org/wp-content/uploads/2024/06/2024-06-Rising-Tides-Cleanup-600x600-1.jpg
ORGANIZER;CN="Alicia Smith":MAILTO:Alicia818@hotmail.com
END:VEVENT
BEGIN:VEVENT
DTSTART;TZID=America/New_York:20240622T090000
DTEND;TZID=America/New_York:20240622T110000
DTSTAMP:20260420T164139
CREATED:20240529T204431Z
LAST-MODIFIED:20240613T211849Z
UID:12947-1719046800-1719054000@stjohnsriverkeeper.org
SUMMARY:Willowbranch Park Cleanup with the AIDS Memorial Project of Northeast Florida
DESCRIPTION:Willowbranch Park Cleanup with the AIDS Memorial Project of Northeast Florida\nJune 22\, 2024 from 9-11 a.m. at Willowbranch Park\nJoin us as we clean historic Willowbranch Park in honor of Pride Month! Did you know that Willowbranch Park holds a significant place in Jacksonville’s LGBTQ+ history? In 1978\, it was the site of Jacksonville’s first Gay Pride Festival! But that’s just the beginning of the park’s remarkable story. Come learn more about this park’s past as well as its future! \nRegister\nRegister here to let us know you’re coming! \nWhat to Bring\n\nFULL Reusable Water Bottle\nHat\, Sunglasses\, Sunscreen\nClosed toe shoes (required)\n\nRain boots\, work boots\, or waders are extremely helpful!\n\n\nOptional: Heavy duty gloves (if desired)
URL:https://stjohnsriverkeeper.org/event/2024-06-willowbranch-park-cleanup/
LOCATION:Willowbranch Park\, 2870 Sydney St.\, Jacksonville\, FL\, 32205\, United States
CATEGORIES:Get Your Feet Wet,Volunteer
ATTACH;FMTTYPE=image/jpeg:https://stjohnsriverkeeper.org/wp-content/uploads/2024/05/Willowbranch-Cleanup-600x600-1.jpg
ORGANIZER;CN="Steph Morse":MAILTO:steph@stjohnsriverkeeper.org
END:VEVENT
BEGIN:VEVENT
DTSTART;TZID=America/New_York:20240626T160000
DTEND;TZID=America/New_York:20240626T180000
DTSTAMP:20260420T164139
CREATED:20240612T203845Z
LAST-MODIFIED:20240614T205815Z
UID:13004-1719417600-1719424800@stjohnsriverkeeper.org
SUMMARY:Brewing Up Solutions: Indian River County
DESCRIPTION:Brewing Up Solutions | For the River\nSt. Johns Riverkeeper (SJRK) is expanding its Brewing Up Solutions brewery series this year to be watershed-wide. We’re Brewing Up Solutions For the River with people who love the St. Johns from the headwaters to the mouth of the river. Beginning in the headwaters of the St. Johns River in Indian River County\, we will travel downstream stopping along the way until we reach the Atlantic Ocean in Mayport\, Duval County. Join us for monthly roundtable discussions that highlight various parts of our vibrant river\, adjacent watersheds\, and key figures along our journey. \nFuture locations for this series will include Sanford\, Palatka\, St. Augustine\, Jacksonville\, and Mayport. \nLaunch Date: June 26\, 2024 from 4-6 p.m. at Walking Tree Brewery (3209 Dodger Road\, Vero Beach) – Register Here\nTopic: Grove Land Reservoir – Risks to the St. Johns and the Indian River Lagoon (IRL)\nOn June 12\, the Governor signed his budget that included a last-minute maneuver that appropriates $400 million dollars to the SJRWMD to acquire\, permit and construct the Grove Land Reservoir and Stormwater Treatment Area\, which will flood the Upper St. Johns River with polluted water from South Florida. \nAs currently designed\, Grove Land will deliver the majority of water to the St. Johns River basin when the river is already high. The additional water would either cause downstream flooding in the St. Johns or would require discharge to the IRL via the C-54 canal. It would also increase phosphorus loads in violation of downstream water quality protections. \nAdvocates for the health of the IRL and the St. Johns River will join forces to ensure that both water bodies are protected equally from this unsustainable project. \nRegister\nPlease RSVP here to let us know you plan to join us. \nHost: Lisa Rinaman\, St. Johns Riverkeeper: The chief advocate and public’s voice for the St. Johns River\nHer responsibilities include holding regulatory agencies and those polluting the river accountable; identifying and advocating for solutions that will protect and restore the river; working with government entities\, businesses\, community leaders and citizens to resolve problems that impact the river’s health; and communicating with the media and the public to educate and raise awareness about important river-related issues. \nLisa was instrumental in the creation of Waterkeepers Florida\, a formal collaboration of 15 Waterkeeper Alliance programs united across the state. She is also one of the founding members of the Reunite the Rivers Coalition working to reconnect Silver Springs\, the Ocklawaha and the St. Johns as the Great Florida Riverway. In addition\, Lisa serves on the Florida Springs Council Board. \nShe enjoys Florida’s waters and natural wonders with her husband\, Mark\, and two boys\, Mark Jr. and August. \nSpecial Guest: Jim Moir: Indian Riverkeeper\, Executive Director\nJim is a husband and father\, Florida native and resident of Stuart\, Florida for 24 years. He is civically engaged and passionate about protecting the Indian River Lagoon and its coastal margins. \nHe is currently Vice Chairman of the Board of Directors for the Marine Resources Council\, and has served as Appointee to the Martin County Local Planning Agency since 2002\, and is a member of the Leadership Team of the Rivers Coalition\, and member and supporter of many local civic and environmental groups. \nJim facilitates ocean science projects specializing in bioacoustics\, marine animal surveys\, and the deployment of autonomous vehicles and data collection devices. He is currently involved with several citizen science projects and marine mammal stranding networks\, he often volunteers with coastal restoration efforts and exotic invasive species control programs.
URL:https://stjohnsriverkeeper.org/event/2024-06-brewing-up-solutions-vero-beach/
LOCATION:Walking Tree Brewery\, 3209 Dodger Rd.\, Vero Beach\, FL\, 32960\, United States
CATEGORIES:Advocacy,Upper Basin
ATTACH;FMTTYPE=image/jpeg:https://stjohnsriverkeeper.org/wp-content/uploads/2024/06/2024-Brewing-Up-Solutions-600x600-copy.jpg
ORGANIZER;CN="Soraya Aidinejad":MAILTO:soraya@stjohnsriverkeeper.org
END:VEVENT
BEGIN:VEVENT
DTSTART;TZID=America/New_York:20240629T100000
DTEND;TZID=America/New_York:20240629T130000
DTSTAMP:20260420T164139
CREATED:20240610T175718Z
LAST-MODIFIED:20240610T204412Z
UID:12993-1719655200-1719666000@stjohnsriverkeeper.org
SUMMARY:Summer Splash at Lonnie Miller Park
DESCRIPTION:Summer Splash at Lonnie Miller Park | Saturday\, June 29 from 10 a.m. – 1 p.m. | Lonnie Miller Park (Jacksonville)\nKick off summer with St. Johns Riverkeeper! Explore this destination park and interact with nonprofit organizations from around our community. All ages are welcome! There will be activities and educational opportunities for kids\, as well as access to a state of the art playground and brand-new splash pad. \nRegistration is not required. Invite your friends and we can’t wait to see you there!
URL:https://stjohnsriverkeeper.org/event/2024-06-summer-splash-lonnie-miller/
LOCATION:Lonnie Miller Park\, 7689 Price Rd.\, Jacksonville\, FL\, 32209\, United States
CATEGORIES:Education,Get Your Feet Wet
ATTACH;FMTTYPE=image/jpeg:https://stjohnsriverkeeper.org/wp-content/uploads/2024/06/2024-06-Summer-Splash-Lonnie-Miller-600x600-1.jpg
ORGANIZER;CN="Steph Morse":MAILTO:steph@stjohnsriverkeeper.org
END:VEVENT
END:VCALENDAR