

BEGIN:VCALENDAR
VERSION:2.0
PRODID:-//St. Johns Riverkeeper - ECPv6.15.20//NONSGML v1.0//EN
CALSCALE:GREGORIAN
METHOD:PUBLISH
X-WR-CALNAME:St. Johns Riverkeeper
X-ORIGINAL-URL:https://stjohnsriverkeeper.org
X-WR-CALDESC:Events for St. Johns Riverkeeper
REFRESH-INTERVAL;VALUE=DURATION:PT1H
X-Robots-Tag:noindex
X-PUBLISHED-TTL:PT1H
BEGIN:VTIMEZONE
TZID:America/New_York
BEGIN:DAYLIGHT
TZOFFSETFROM:-0500
TZOFFSETTO:-0400
TZNAME:EDT
DTSTART:20230312T070000
END:DAYLIGHT
BEGIN:STANDARD
TZOFFSETFROM:-0400
TZOFFSETTO:-0500
TZNAME:EST
DTSTART:20231105T060000
END:STANDARD
BEGIN:DAYLIGHT
TZOFFSETFROM:-0500
TZOFFSETTO:-0400
TZNAME:EDT
DTSTART:20240310T070000
END:DAYLIGHT
BEGIN:STANDARD
TZOFFSETFROM:-0400
TZOFFSETTO:-0500
TZNAME:EST
DTSTART:20241103T060000
END:STANDARD
BEGIN:DAYLIGHT
TZOFFSETFROM:-0500
TZOFFSETTO:-0400
TZNAME:EDT
DTSTART:20250309T070000
END:DAYLIGHT
BEGIN:STANDARD
TZOFFSETFROM:-0400
TZOFFSETTO:-0500
TZNAME:EST
DTSTART:20251102T060000
END:STANDARD
END:VTIMEZONE
BEGIN:VTIMEZONE
TZID:UTC
BEGIN:STANDARD
TZOFFSETFROM:+0000
TZOFFSETTO:+0000
TZNAME:UTC
DTSTART:20230101T000000
END:STANDARD
END:VTIMEZONE
BEGIN:VEVENT
DTSTART;TZID=America/New_York:20240407T090000
DTEND;TZID=America/New_York:20240407T120000
DTSTAMP:20260420T224713
CREATED:20231219T224835Z
LAST-MODIFIED:20240130T171110Z
UID:12164-1712480400-1712491200@stjohnsriverkeeper.org
SUMMARY:Riverview Park Service Day
DESCRIPTION:Join St. Johns Riverkeeper for our monthly day of service at the lovely Riverview Park on the Trout River. As Riverview Park’s Official Park Stewards\, this is part of an ongoing effort to improve and maintain this important community resource connecting locals to our river on Jacksonville’s northside. \nVolunteers can expect to collect litter\, clear trails\, catalog and/or remove invasive plants\, and more as needed! Cleanup bags\, gloves and grabbers will be provided. \nUseful Items to Bring:\n\nFULL reusable water bottle\nClosed-toe shoes (Required. We HIGHLY recommend wearing rain boots! This park is prone to flooding and general sogginess.)\nSun protection (sunscreen\, hat\, sunglasses)\nBug spray\nWork/gardening gloves (cleanup gloves will be provided)\nSmall garden tools (trowels\, shovels\, etc.)\n\nRegister\nPlease register to let us know you’ll be joining us so we can plan accordingly.
URL:https://stjohnsriverkeeper.org/event/2024-04-riverview-park-service-day/
LOCATION:Riverview Park\, 9620 E Water St\, Jacksonville\, FL\, 32208
CATEGORIES:Get Your Feet Wet,Volunteer
ATTACH;FMTTYPE=image/jpeg:https://stjohnsriverkeeper.org/wp-content/uploads/2023/12/2023-04-Riverview-Park-Service-Day-600x600-1.jpg
ORGANIZER;CN="Steph Morse":MAILTO:steph@stjohnsriverkeeper.org
END:VEVENT
BEGIN:VEVENT
DTSTART;TZID=America/New_York:20240413T083000
DTEND;TZID=America/New_York:20240413T113000
DTSTAMP:20260420T224713
CREATED:20240205T190433Z
LAST-MODIFIED:20240409T221740Z
UID:12583-1712997000-1713007800@stjohnsriverkeeper.org
SUMMARY:Wetland Preserve Guided Tour
DESCRIPTION:Join us as we explore further up the watershed at Wetland Preserve in Palatka! \nWe will be led by Wetland Preserve educators on a guided\, open-air vehicle (aka\, buggy!) tour of their conservation lands as we learn about the key role these forests and swamps play in improving our water quality. Following the tour participants are welcome to remain\, have lunch\, and explore the natural beauty of the area. \nAbout Wetland Preserve\nWetland Preserve’s primary parcel consists of 3\,800 acres\, all of which is protected by a Florida Forever conservation easement and also falls within the O2O wildlife corridor. \nWetland Preserve is adjacent to the Rice Creek Conservation Area\, a 5000 acre project of the Saint Johns River Water Management District located in Putnam County\, Florida. On the southern border is Nine Mile Swamp Park\, a 1268 acre conservation project owned by Putnam County. Most of the land falls under what is considered a “mesic flatwoods” ecosystem designation\, with a fair portion of it being mature creek swamps and a smaller area consisting of dry sand hills. \nCheck out the tour section of their website to learn more: http://benandlouann.com/coming-for-a-tour/ \nCost: $15.00 per person \nWhat to Bring\nReusable water bottle\nSnacks\nBug repellent\nBug bite ointment (just in case the bug repellent fails you!)\nSunscreen / lip balm\nCamera\nBinoculars\nAny medical items you may need while out such as an EpiPen or diabetic supplies \nWhat to Wear\nLong sleeved T-shirt. Long sleeved is important because it gives you extra protection against biting insects and an extra barrier to protect you in case you inadvertently bump up against some poison ivy or other irritating plant.\nLong pants – blue jeans or hiking pants\nTall socks that you can tuck your pants into (for tick protection)\nHat\nSunglasses\nClosed-toe shoes \nREGISTER   (Spaces are limited)
URL:https://stjohnsriverkeeper.org/event/wetland-preserve-guided-tour/
LOCATION:Wetland Preserve\, 299 State Rte 100\, Palatka\, FL\, 32177\, United States
CATEGORIES:Education,Get Your Feet Wet
ATTACH;FMTTYPE=image/png:https://stjohnsriverkeeper.org/wp-content/uploads/2024/02/Wetland-Preserve-600-×-600-px.png
ORGANIZER;CN="Steph Morse":MAILTO:steph@stjohnsriverkeeper.org
END:VEVENT
BEGIN:VEVENT
DTSTART;TZID=America/New_York:20240419T090000
DTEND;TZID=America/New_York:20240419T110000
DTSTAMP:20260420T224713
CREATED:20240411T143146Z
LAST-MODIFIED:20240411T143146Z
UID:12812-1713517200-1713524400@stjohnsriverkeeper.org
SUMMARY:Kingsley Plantation Cleanup Hosted by the FSCJ Honors Program and Center for Civic Engagement
DESCRIPTION:Kingsley Plantation Cleanup Hosted by the FSCJ Honors Program and Center for Civic Engagement\nJoin St. Johns Riverkeeper and FSCJ for a special Earth Month cleanup in the Timucuan Ecological Preserve! Do your part for the planet\, hear from park educators\, and enjoy the day in this beautiful preserve. \nPart of the Great St. Johns River Cleanup. \nREGISTER
URL:https://stjohnsriverkeeper.org/event/kingsley-plantation-cleanup-hosted-by-the-fscj-honors-program-and-center-for-civic-engagement/
LOCATION:Kingsley Plantation\, 11676 Palmetto Ave\, Jacksonville\, FL\, 32226\, United States
CATEGORIES:Get Your Feet Wet,Volunteer
ATTACH;FMTTYPE=image/png:https://stjohnsriverkeeper.org/wp-content/uploads/2024/04/Kingsley-Plantation-Cleanup-600-×-600-px.png
ORGANIZER;CN="Steph Morse":MAILTO:steph@stjohnsriverkeeper.org
END:VEVENT
BEGIN:VEVENT
DTSTART;TZID=America/New_York:20240420T120000
DTEND;TZID=America/New_York:20240420T140000
DTSTAMP:20260420T224713
CREATED:20240119T185650Z
LAST-MODIFIED:20240205T214745Z
UID:12443-1713614400-1713621600@stjohnsriverkeeper.org
SUMMARY:Moncrief Creek Cleanup with Eartha's Farm
DESCRIPTION:Join St. Johns Riverkeeper and Eartha’s Farm and Market during Earth Day weekend for an educational cleanup on Moncrief Creek. All ages welcome! Kids must be accompanied by an adult. \nPlease bring reusable water bottles\, sunscreen and bug spray. Closed-toe shoes are encouraged. All other cleanup materials will be provided. \nThis cleanup will be a part of the Great St. Johns River Cleanup! \nREGISTER\nPlease RSVP to let us know you’re coming!
URL:https://stjohnsriverkeeper.org/event/2024-04-moncrief-creek-cleanup-with-earthas-farm/
LOCATION:Eartha’s Farm and Market\, 4850 Moncrief Rd.\, Jacksonville\, FL\, 32209\, United States
CATEGORIES:Education,Get Your Feet Wet,Volunteer
ATTACH;FMTTYPE=image/jpeg:https://stjohnsriverkeeper.org/wp-content/uploads/2024/01/2024-Earthas-Farm-St.-Johns-Riverkeeper-Cleanup-600x600-1.jpg
ORGANIZER;CN="Jamie De Nisco":MAILTO:jamie@stjohnsriverkeeper.org
END:VEVENT
BEGIN:VEVENT
DTSTART;TZID=America/New_York:20240421T100000
DTEND;TZID=America/New_York:20240421T120000
DTSTAMP:20260420T224713
CREATED:20240103T194227Z
LAST-MODIFIED:20240212T171604Z
UID:12259-1713693600-1713700800@stjohnsriverkeeper.org
SUMMARY:Rising Tides: McCoys Creek Cleanup
DESCRIPTION:Join Rising Tides young professionals Earth Day weekend for our monthly cleanup on McCoys Creek! As always\, all of our cleanups are RAIN or SHINE!  This month we’re cleaning up Powers Park from 10 a.m. – noon. All ages are welcome! This cleanup is co-hosted by NAS Jax Skin and Scuba Club!  \nThis event is part of the Great St. Johns River Cleanup. Powers Park is navigable by water\, if you have a kayak/canoe that you want to bring to get trash we can’t reach from shore! \nWhat to Bring:\n\nFULL Reusable Water Bottle\nHat\, Sunglasses\, Sunscreen\nClosed toe shoes (required)\nRain boots\, work boots\, or waders are extremely helpful!\nOptional: Heavy duty gloves (if desired)\n\nCleanup gloves and bags will be provided by City of Jacksonville and Keep Jacksonville Beautiful. \nRSVP\nRSVP here to let us know you’re coming! \nIf you have any questions\, please contact Steph Morse at steph@stjohnsriverkeeper.org.
URL:https://stjohnsriverkeeper.org/event/2024-04-rising-tides-mccoys-creek-cleanup/
LOCATION:Powers Park\, 3153 Green Street\, Jacksonville\, FL\, 32205\, United States
CATEGORIES:Get Your Feet Wet,Rising Tides,Volunteer
ATTACH;FMTTYPE=image/jpeg:https://stjohnsriverkeeper.org/wp-content/uploads/2024/01/2024-04-Rising-Tides-Cleanup-600x600-1.jpg
ORGANIZER;CN="Alicia Smith":MAILTO:Alicia818@hotmail.com
END:VEVENT
BEGIN:VEVENT
DTSTART;VALUE=DATE:20240427
DTEND;VALUE=DATE:20240429
DTSTAMP:20260420T224713
CREATED:20240410T200829Z
LAST-MODIFIED:20240410T200829Z
UID:12805-1714176000-1714348799@stjohnsriverkeeper.org
SUMMARY:Bartram Frolic
DESCRIPTION:Explore History on Our River!\nApril 27-28\, 2024\nPalatka’s riverfront comes alive with faces from the past as we follow the footsteps of artist and naturalist William Bartram\, whose writings chronicle a journey through the unspoiled nature of 1774 Florida. With living history interpreters from all walks of life\, children’s activities\, and tours by bike\, boat\, and kayak with expert guides\, there’s something for everyone at the 2024 St. Johns River Bartram Frolic! \nPlan to join us and Bartram Trail Society of Florida on board the Pride of Palatka Riverboat on Saturday\, April 27 where we’ll be leading a tour at 1:00 p.m. \nOrganized by the Bartram Trail Society. For more information\, visit the Bartram Trail Society website.
URL:https://stjohnsriverkeeper.org/event/bartram-frolic/
LOCATION:St. Johns River Center\, 102 N 1st Street\, Palatka\, FL\, 32177\, United States
CATEGORIES:Education,Get Your Feet Wet
ATTACH;FMTTYPE=image/jpeg:https://stjohnsriverkeeper.org/wp-content/uploads/2022/04/AfterlightImage2-William-Bartram-600x600-1.jpg
ORGANIZER;CN="Jamie De Nisco":MAILTO:jamie@stjohnsriverkeeper.org
END:VEVENT
BEGIN:VEVENT
DTSTART;TZID=America/New_York:20240427T090000
DTEND;TZID=America/New_York:20240427T110000
DTSTAMP:20260420T224713
CREATED:20240424T171733Z
LAST-MODIFIED:20240424T172113Z
UID:12871-1714208400-1714215600@stjohnsriverkeeper.org
SUMMARY:Ribault River Community Cleanup
DESCRIPTION:Ribault River Community Cleanup\nSaturday\, April 27 from 9-11 a.m. at Ribault River Preserve Park\nJoin St. Johns Riverkeeper for a cleanup in partnership with Gullah Geechee Community Cultural Trust\, JaxParks\, Sol Margin Fishing and Conservation Foundation\, Ribault Sportsmen Association\, and LISC Jacksonville. Sol Margin will be available to share information about how to have a positive fishing experience at the pier. \nRegister\nPlease register here to let us know you’re coming. \nWhat to Bring:\n\nFULL Reusable Water Bottle\nHat\, Sunglasses\, Sunscreen\nClosed toe shoes (required)\nRain boots\, work boots\, or waders are extremely helpful!\nOptional: Heavy duty gloves (if desired)\n\nIf you have any questions\, please contact Kristopher Smith of LISC Jacksonville (KSmith@lisc.org).
URL:https://stjohnsriverkeeper.org/event/2024-04-ribault-river-community-cleanup/
LOCATION:Ribault River Reserve\, 2617 Ribault Scenic Dr.\, Jacksonville\, FL\, 32208\, United States
CATEGORIES:Get Your Feet Wet,Volunteer
ATTACH;FMTTYPE=image/jpeg:https://stjohnsriverkeeper.org/wp-content/uploads/2024/04/Ribault-Cleanup-600x600-1.jpg
END:VEVENT
BEGIN:VEVENT
DTSTART;TZID=America/New_York:20240428T090000
DTEND;TZID=America/New_York:20240428T110000
DTSTAMP:20260420T224713
CREATED:20240404T170316Z
LAST-MODIFIED:20240404T170316Z
UID:12792-1714294800-1714302000@stjohnsriverkeeper.org
SUMMARY:Corkscrew Park Cleanup hosted by Dart Bar & Games\, Keg & Coin\, and Bold City Brewing
DESCRIPTION:Help us keep an iconic riverfront park clean! \nJacksonville’s Northbank Riverwalk has fantastic amenities to help us stay healthy – but what about our river? Join us on this cleanup of Corkscrew Park hosted by Dart Bar & Games\, Keg & Coin\, as well as Bold City Brewing and discover one of our city’s many public gems. \nFor safety reasons\, this cleanup has been designated for ages 16 and up. \nREGISTER
URL:https://stjohnsriverkeeper.org/event/corkscrew-park-cleanup-hosted-by-dart-bar-games-keg-coin-and-bold-city-brewing/
LOCATION:Corkscrew Park\, E Coastline Drive\, Jacksonville\, FL\, 32202\, United States
CATEGORIES:Get Your Feet Wet,Volunteer
ATTACH;FMTTYPE=image/png:https://stjohnsriverkeeper.org/wp-content/uploads/2024/04/Corkscrew-Park-Cleanup-600-×-600-px.png
ORGANIZER;CN="Steph Morse":MAILTO:steph@stjohnsriverkeeper.org
END:VEVENT
END:VCALENDAR