

BEGIN:VCALENDAR
VERSION:2.0
PRODID:-//St. Johns Riverkeeper - ECPv6.15.20//NONSGML v1.0//EN
CALSCALE:GREGORIAN
METHOD:PUBLISH
X-ORIGINAL-URL:https://stjohnsriverkeeper.org
X-WR-CALDESC:Events for St. Johns Riverkeeper
REFRESH-INTERVAL;VALUE=DURATION:PT1H
X-Robots-Tag:noindex
X-PUBLISHED-TTL:PT1H
BEGIN:VTIMEZONE
TZID:America/New_York
BEGIN:DAYLIGHT
TZOFFSETFROM:-0500
TZOFFSETTO:-0400
TZNAME:EDT
DTSTART:20230312T070000
END:DAYLIGHT
BEGIN:STANDARD
TZOFFSETFROM:-0400
TZOFFSETTO:-0500
TZNAME:EST
DTSTART:20231105T060000
END:STANDARD
BEGIN:DAYLIGHT
TZOFFSETFROM:-0500
TZOFFSETTO:-0400
TZNAME:EDT
DTSTART:20240310T070000
END:DAYLIGHT
BEGIN:STANDARD
TZOFFSETFROM:-0400
TZOFFSETTO:-0500
TZNAME:EST
DTSTART:20241103T060000
END:STANDARD
BEGIN:DAYLIGHT
TZOFFSETFROM:-0500
TZOFFSETTO:-0400
TZNAME:EDT
DTSTART:20250309T070000
END:DAYLIGHT
BEGIN:STANDARD
TZOFFSETFROM:-0400
TZOFFSETTO:-0500
TZNAME:EST
DTSTART:20251102T060000
END:STANDARD
END:VTIMEZONE
BEGIN:VEVENT
DTSTART;TZID=America/New_York:20240303T090000
DTEND;TZID=America/New_York:20240303T120000
DTSTAMP:20260421T021333
CREATED:20231219T223854Z
LAST-MODIFIED:20240130T171119Z
UID:12161-1709456400-1709467200@stjohnsriverkeeper.org
SUMMARY:Riverview Park Service Day
DESCRIPTION:Join St. Johns Riverkeeper for our monthly day of service at the lovely Riverview Park on the Trout River. As Riverview Park’s Official Park Stewards\, this is part of an ongoing effort to improve and maintain this important community resource connecting locals to our river on Jacksonville’s northside. \nVolunteers can expect to collect litter\, clear trails\, catalog and/or remove invasive plants\, and more as needed! Cleanup bags\, gloves and grabbers will be provided. \nUseful Items to Bring:\n\nFULL reusable water bottle\nClosed-toe shoes (Required. We HIGHLY recommend wearing rain boots! This park is prone to flooding and general sogginess.)\nSun protection (sunscreen\, hat\, sunglasses)\nBug spray\nWork/gardening gloves (cleanup gloves will be provided)\nSmall garden tools (trowels\, shovels\, etc.)\n\nRegister\nPlease register to let us know you’ll be joining us so we can plan accordingly.
URL:https://stjohnsriverkeeper.org/event/2024-03-riverview-park-service-day/
LOCATION:Riverview Park\, 9620 E Water St\, Jacksonville\, FL\, 32208
CATEGORIES:Get Your Feet Wet,Volunteer
ATTACH;FMTTYPE=image/jpeg:https://stjohnsriverkeeper.org/wp-content/uploads/2023/12/2024-03-Riverview-Park-Service-Day-600x600-1.jpg
ORGANIZER;CN="Steph Morse":MAILTO:steph@stjohnsriverkeeper.org
END:VEVENT
BEGIN:VEVENT
DTSTART;TZID=America/New_York:20240309T100000
DTEND;TZID=America/New_York:20240309T150000
DTSTAMP:20260421T021333
CREATED:20240131T211859Z
LAST-MODIFIED:20240205T214912Z
UID:12558-1709978400-1709996400@stjohnsriverkeeper.org
SUMMARY:7 Creeks Fest
DESCRIPTION:The 7 Creeks Fest invites you to celebrate and explore the scenic waterways\, diverse ecosystems\, and winding trails of the 7 Creeks Recreation Area. Spread throughout the connected wilderness parks and preserves surrounded by seven creeks\, this family-friendly\, fun event raises awareness of these preserved public lands and how we can help protect them. \nThe fest highlights the area’s recreational opportunities\, local efforts to enhance and protect these green spaces\, and offers nature-themed activities and exhibits that emphasize education and environmentally-responsible adventures. Visit 7creeksfest.org to learn more! \nWould you like to volunteer to help SJRK at this event?\nSign up to Volunteer
URL:https://stjohnsriverkeeper.org/event/7-creeks-fest/
LOCATION:Betz-Tiger Point Preserve\, 13990 Pumpkin Hill Rd.\, Jacksonville\, FL\, 32226\, United States
CATEGORIES:Education,Get Your Feet Wet
ATTACH;FMTTYPE=image/jpeg:https://stjohnsriverkeeper.org/wp-content/uploads/2024/01/7-Creeks-Fest-2024.jpg
END:VEVENT
BEGIN:VEVENT
DTSTART;VALUE=DATE:20240310
DTEND;VALUE=DATE:20240311
DTSTAMP:20260421T021333
CREATED:20240208T150920Z
LAST-MODIFIED:20240226T133036Z
UID:12608-1710028800-1710115199@stjohnsriverkeeper.org
SUMMARY:3rd Annual Source to Sea Celebration: 310 Paddlers
DESCRIPTION:The 3rd annual Source to Sea Celebration is a time to honor the exclusive group of individuals who have paddled all 310 miles of the St. Johns River. All are welcome to celebrate with us throughout the day as we explore Putnam County. The day’s events will culminate with a celebration at Azalea City Brewing Company where you will have the opportunity to meet fellow river lovers and individuals who have completed the St. Johns River Source to Sea journey. \nRiver Cruise | 2-4 p.m. at Palatka Riverfront Dock\nEnjoy a relaxing cruise along the St. Johns River on the Pride of Palatka\, hosted by St. Johns Riverkeeper. We will have speakers discuss the history of the river in the area\, its current health\, and more. $20 suggested donation for adults\, $10 suggested donation for children. Boat will disembark from the Palatka Riverfront dock. Inquiries about registering without a donation\, contact Info@StJohnsRiverkeeper.org. \nRegister to reserve your spot!\n  \nSource to Sea Celebration | 5-8 p.m. at Azalea City Brewing Company\nThe Source to Sea Celebration taking place at the Azalea City Brewing Company is a time to honor those who have paddled all 310 miles of the St. Johns River. There will be a brief program followed by a chance to mingle with these extraordinary honorees. \nRegister to reserve your spot!\n  \nChoose your own Adventure: Other Activities to Enjoy in Palatka\nHike or Bike at Ravine Gardens State Park | Park opens at 8 a.m. | 1600 Twigg St. Palatka FL\nAncient ravines and the banks of Whitewater Branch\, a spring-fed creek that flows into the St. Johns River\, have been transformed into a rustic tropical garden at Ravine Gardens State Park. Explore miles of paved and unpaved trails\, geo-seek\, bring a picnic\, or simply enjoy the scenery. Peak bloom season for hundreds of azalea bushes is January-March. \nView the trail map online. Admission is $5 per vehicle or $2 per pedestrian/cyclist. \nTake the Mural Tour of Downtown Palatka | View the map\nDowntown Palatka boasts more than 30 murals depicting the historical\, cultural\, and natural riches of Palatka and Putnam County. These larger-than-life pictorial renderings range from “Harlem Nights in Palatka” to “Putnam County Wildflowers.” They create a fun walking tour and make fine selfie backgrounds\, too. \nBike on the Palatka to St. Augustine State Trail | Opens at 8 a.m.\nThe Palatka to St. Augustine State Trail is a multi-use recreational trail along a corridor that stretches through St. Johns and Putnam counties. Learn more on the Florida State Parks website.
URL:https://stjohnsriverkeeper.org/event/3rd-annual-source-to-sea-celebration-310-paddlers/
LOCATION:Azalea City Brewing\, 120 South 7th Street\, Palatka\, FL\, 32177
CATEGORIES:Education,Get Your Feet Wet
ATTACH;FMTTYPE=image/png:https://stjohnsriverkeeper.org/wp-content/uploads/2024/02/Source-to-Sea-600-×-600-px.png
ORGANIZER;CN="Steph Morse":MAILTO:steph@stjohnsriverkeeper.org
END:VEVENT
BEGIN:VEVENT
DTSTART;TZID=America/New_York:20240316T090000
DTEND;TZID=America/New_York:20240316T110000
DTSTAMP:20260421T021333
CREATED:20240103T190411Z
LAST-MODIFIED:20240130T171258Z
UID:12256-1710579600-1710586800@stjohnsriverkeeper.org
SUMMARY:Rising Tides: McCoys Creek Cleanup
DESCRIPTION:Join Rising Tides young professionals for our monthly cleanup on McCoys Creek! As always\, all of our cleanups are RAIN or SHINE!  This month we’re cleaning up Hollybrook Park from 9-11 a.m. All ages are welcome! \nWhat to Bring:\n\nFULL Reusable Water Bottle\nHat\, Sunglasses\, Sunscreen\nClosed toe shoes (required)\nRain boots\, work boots\, or waders are extremely helpful!\nOptional: Heavy duty gloves (if desired)\n\nCleanup gloves and bags will be provided by City of Jacksonville and Keep Jacksonville Beautiful. \nRSVP\nRSVP here to let us know you’re coming! \nIf you have any questions\, please contact Steph Morse at steph@stjohnsriverkeeper.org.
URL:https://stjohnsriverkeeper.org/event/2024-03-rising-tides-mccoys-creek-cleanup/
LOCATION:Hollybrook Park\, 319 Cherokee Street\, Jacksonville\, FL\, 32254
CATEGORIES:Get Your Feet Wet,Rising Tides,Volunteer
ATTACH;FMTTYPE=image/jpeg:https://stjohnsriverkeeper.org/wp-content/uploads/2024/01/2024-03-Rising-Tides-Cleanup-600x600-1.jpg
ORGANIZER;CN="Alicia Smith":MAILTO:Alicia818@hotmail.com
END:VEVENT
BEGIN:VEVENT
DTSTART;TZID=America/New_York:20240322T180000
DTEND;TZID=America/New_York:20240322T193000
DTSTAMP:20260421T021333
CREATED:20240102T180129Z
LAST-MODIFIED:20240226T175846Z
UID:12244-1711130400-1711135800@stjohnsriverkeeper.org
SUMMARY:River Reflection
DESCRIPTION:Join us for an evening showcase of local artists whose work is inspired by the connection between our local waterways and our community. This outdoor gallery will feature artists of all ages and mediums and is presented by St. Johns Riverkeeper\, Matanzas Riverkeeper\, and St. Johns County Parks and Recreation as a way to celebrate our waterways. \nRegister\nRSVP to let us know you plan to attend! \nSubmit Your Art\nCalling artists of all mediums\, ages\, and abilities to showcase art that highlights the importance and connection our waterways have to our community. Submit your piece today to help us celebrate our waterways! Art will be displayed at the River Reflection event. Deadline to submit: January 15. \nSubmit your art here!
URL:https://stjohnsriverkeeper.org/event/2023-03-river-reflection/
LOCATION:Alpine Groves Park\, 2060 State Road 13\, St. Johns\, 32259\, United States
CATEGORIES:Get Your Feet Wet
ATTACH;FMTTYPE=image/jpeg:https://stjohnsriverkeeper.org/wp-content/uploads/2024/01/2023-03-River-Reflection-600x600-2.jpg
ORGANIZER;CN="Steph Morse":MAILTO:steph@stjohnsriverkeeper.org
END:VEVENT
BEGIN:VEVENT
DTSTART;TZID=America/New_York:20240323T090000
DTEND;TZID=America/New_York:20240323T110000
DTSTAMP:20260421T021333
CREATED:20240320T163159Z
LAST-MODIFIED:20240320T163518Z
UID:12729-1711184400-1711191600@stjohnsriverkeeper.org
SUMMARY:T.K. Stokes Boat Ramp Cleanup
DESCRIPTION:Join us for cleanup at T.K. Stokes Boat Ramp from 9:00 – 11:00 a.m. as part of the Great St. Johns River Cleanup. \nUseful Items to Bring:\n\nFULL reusable water bottle\nClosed-toe shoes (Required. We HIGHLY recommend wearing rain boots! This park is prone to flooding and general sogginess.)\nSun protection (sunscreen\, hat\, sunglasses)\nBug spray\nWork/gardening gloves (cleanup gloves will be provided)\nSmall garden tools (trowels\, shovels\, etc.)\n\nRegister\nPlease register to let us know you’ll be joining us so we can plan accordingly.
URL:https://stjohnsriverkeeper.org/event/t-k-stokes-boat-ramp-cleanup/
LOCATION:T.K. Stokes Boat Ramp\, 2120 Riverview St.\, Jacksonville\, FL\, 32208\, United States
CATEGORIES:Get Your Feet Wet,Volunteer
ATTACH;FMTTYPE=image/png:https://stjohnsriverkeeper.org/wp-content/uploads/2024/03/TK-Stokes-Cleanup-Website-600-x-600-px.png
ORGANIZER;CN="Steph Morse":MAILTO:steph@stjohnsriverkeeper.org
END:VEVENT
END:VCALENDAR