

BEGIN:VCALENDAR
VERSION:2.0
PRODID:-//St. Johns Riverkeeper - ECPv6.15.20//NONSGML v1.0//EN
CALSCALE:GREGORIAN
METHOD:PUBLISH
X-WR-CALNAME:St. Johns Riverkeeper
X-ORIGINAL-URL:https://stjohnsriverkeeper.org
X-WR-CALDESC:Events for St. Johns Riverkeeper
REFRESH-INTERVAL;VALUE=DURATION:PT1H
X-Robots-Tag:noindex
X-PUBLISHED-TTL:PT1H
BEGIN:VTIMEZONE
TZID:America/New_York
BEGIN:DAYLIGHT
TZOFFSETFROM:-0500
TZOFFSETTO:-0400
TZNAME:EDT
DTSTART:20220313T070000
END:DAYLIGHT
BEGIN:STANDARD
TZOFFSETFROM:-0400
TZOFFSETTO:-0500
TZNAME:EST
DTSTART:20221106T060000
END:STANDARD
BEGIN:DAYLIGHT
TZOFFSETFROM:-0500
TZOFFSETTO:-0400
TZNAME:EDT
DTSTART:20230312T070000
END:DAYLIGHT
BEGIN:STANDARD
TZOFFSETFROM:-0400
TZOFFSETTO:-0500
TZNAME:EST
DTSTART:20231105T060000
END:STANDARD
BEGIN:DAYLIGHT
TZOFFSETFROM:-0500
TZOFFSETTO:-0400
TZNAME:EDT
DTSTART:20240310T070000
END:DAYLIGHT
BEGIN:STANDARD
TZOFFSETFROM:-0400
TZOFFSETTO:-0500
TZNAME:EST
DTSTART:20241103T060000
END:STANDARD
END:VTIMEZONE
BEGIN:VEVENT
DTSTART;TZID=America/New_York:20231203T090000
DTEND;TZID=America/New_York:20231203T120000
DTSTAMP:20260421T064256
CREATED:20231107T194322Z
LAST-MODIFIED:20231107T194322Z
UID:12001-1701594000-1701604800@stjohnsriverkeeper.org
SUMMARY:Riverview Park Service Day
DESCRIPTION:Join St. Johns Riverkeeper for our monthly day of service at the lovely Riverview Park on the Trout River. As Riverview Park’s Official Park Stewards\, this is part of an ongoing effort to improve and maintain this important community resource connecting locals to our river on Jacksonville’s northside. \nVolunteers can expect to collect litter\, clear trails\, catalog and/or remove invasive plants\, and more as needed! Cleanup bags\, gloves and grabbers will be provided. \nUseful Items to Bring:\n\nFULL reusable water bottle\nSun protection (sunscreen\, hat\, sunglasses)\nBug spray\nWork/gardening gloves (cleanup gloves will be provided)\nSmall garden tools (trowels\, shovels\, etc.)\n\nRegister\nPlease register to let us know you’ll be joining us so we can plan accordingly.
URL:https://stjohnsriverkeeper.org/event/2023-12-riverview-park-service-day/
LOCATION:Riverview Park\, 9620 E Water St\, Jacksonville\, FL\, 32208
CATEGORIES:Get Your Feet Wet,Volunteer
ATTACH;FMTTYPE=image/jpeg:https://stjohnsriverkeeper.org/wp-content/uploads/2023/11/2023-12-Riverview-Park-Service-Day-600x600-1.jpg
ORGANIZER;CN="Steph Morse":MAILTO:steph@stjohnsriverkeeper.org
END:VEVENT
BEGIN:VEVENT
DTSTART;TZID=America/New_York:20231206T173000
DTEND;TZID=America/New_York:20231206T193000
DTSTAMP:20260421T064256
CREATED:20231107T190208Z
LAST-MODIFIED:20231107T190208Z
UID:11998-1701883800-1701891000@stjohnsriverkeeper.org
SUMMARY:Holiday Mingle
DESCRIPTION:You’re invited to St. Johns Riverkeeper’s annual Holiday Mingle! It will be an evening of celebrating our members and volunteers as Jimmy Orth\, executive director\, and Lisa Rinaman\, your St. Johns Riverkeeper\, share what the organization has been up to and goals for the coming year. Enjoy hors d’oeuvres and holiday spirits as you get to know other St. Johns Riverkeeper members and staff\, and enjoy the beautiful view of the St. Johns River from Jacksonville University’s Marine Science Research Institute Observation Deck. \nView the campus map: https://www.ju.edu/map/ \nRegister\nPlease RSVP here to let us know you’re coming.
URL:https://stjohnsriverkeeper.org/event/2023-12-holiday-mingle/
LOCATION:JU Marine Science Research Institute Bldg.\, Marine Science Research Institute\, River Road\, Jacksonville\, FL\, 32211\, United States
CATEGORIES:Volunteer
ATTACH;FMTTYPE=image/jpeg:https://stjohnsriverkeeper.org/wp-content/uploads/2023/11/2023-12-Holiday-Mingle-600x600-1.jpg
ORGANIZER;CN="Steph Morse":MAILTO:steph@stjohnsriverkeeper.org
END:VEVENT
BEGIN:VEVENT
DTSTART;TZID=America/New_York:20231211T080000
DTEND;TZID=America/New_York:20231218T120000
DTSTAMP:20260421T064256
CREATED:20231211T221621Z
LAST-MODIFIED:20231211T221621Z
UID:12130-1702281600-1702900800@stjohnsriverkeeper.org
SUMMARY:Holiday Auction
DESCRIPTION:Do Your Holiday Shopping and Support a Great Cause! Now Through December 18\nThis year we are hosting our very first virtual holiday silent auction! A multitude of local businesses and artists have donated items and experiences for our supporters to bid on in support of our effective advocacy\, education and outreach initiatives. \nFrom beautiful river-themed art to paddleboard lessons\, expert golf-form evaluation to resort stays\, jewelry to wine sampling parties – there is something for everyone at every price range! \nNot only will you get some holiday shopping done for loved ones (or a treat for yourself!)\, your participation in this silent auction will directly benefit St. Johns Riverkeeper and allow us to continue our work to defend the river and advocate for its protection. \nView the Holiday Auction\nThank you for your support of our important work – for the river and for us all!
URL:https://stjohnsriverkeeper.org/event/2023-holiday-auction/
CATEGORIES:Fundraiser
ATTACH;FMTTYPE=image/jpeg:https://stjohnsriverkeeper.org/wp-content/uploads/2023/12/Holiday-Silent-Auction-1200x1200-1-e1702332957677.jpg
ORGANIZER;CN="Meredith Jespersen":MAILTO:meredith@stjohnsriverkeeper.org
END:VEVENT
BEGIN:VEVENT
DTSTART;TZID=America/New_York:20231217T100000
DTEND;TZID=America/New_York:20231217T120000
DTSTAMP:20260421T064256
CREATED:20230929T210255Z
LAST-MODIFIED:20231129T195429Z
UID:11884-1702807200-1702814400@stjohnsriverkeeper.org
SUMMARY:Rising Tides: McCoys Creek Cleanup & End of Year Celebration
DESCRIPTION:Join Rising Tides young professionals for our monthly cleanup on McCoys Creek! As always\, all of our cleanups are RAIN or SHINE!  This month we’re cleaning up the Northbank Riverwalk (111 Riverside Ave.) from 10 a.m. – noon\, near where McCoys Creek flows into the St. Johns River. We’ll be celebrating all that Rising Tides has accomplished in 2023. \nWhat to Bring:\n\nFULL Reusable Water Bottle\nHat\, Sunglasses\, Sunscreen\nClosed toe shoes (required)\nRain boots\, work boots\, or waders are extremely helpful!\nOptional: Heavy duty gloves (if desired)\n\nCleanup gloves and bags will be provided by City of Jacksonville and Keep Jacksonville Beautiful. \nRSVP\nRSVP here to let us know you’re coming! \nIf you have any questions\, please contact Rebecca Vecera at rebecca@stjohnsriverkeeper.org.
URL:https://stjohnsriverkeeper.org/event/2023-12-rising-tides-mccoys-creek-cleanup/
LOCATION:Northbank Riverwalk\, 111 Riverside Avenue\, Jacksonville\, Florida\, 32204\, United States
CATEGORIES:Get Your Feet Wet,Rising Tides,Volunteer
ATTACH;FMTTYPE=image/jpeg:https://stjohnsriverkeeper.org/wp-content/uploads/2023/09/IMG_5797-800x800-Rising-Tides-Riverwalk-Cleanup.jpg
ORGANIZER;CN="Alicia Smith":MAILTO:Alicia818@hotmail.com
END:VEVENT
END:VCALENDAR