

BEGIN:VCALENDAR
VERSION:2.0
PRODID:-//St. Johns Riverkeeper - ECPv6.15.20//NONSGML v1.0//EN
CALSCALE:GREGORIAN
METHOD:PUBLISH
X-ORIGINAL-URL:https://stjohnsriverkeeper.org
X-WR-CALDESC:Events for St. Johns Riverkeeper
REFRESH-INTERVAL;VALUE=DURATION:PT1H
X-Robots-Tag:noindex
X-PUBLISHED-TTL:PT1H
BEGIN:VTIMEZONE
TZID:America/New_York
BEGIN:DAYLIGHT
TZOFFSETFROM:-0500
TZOFFSETTO:-0400
TZNAME:EDT
DTSTART:20200308T070000
END:DAYLIGHT
BEGIN:STANDARD
TZOFFSETFROM:-0400
TZOFFSETTO:-0500
TZNAME:EST
DTSTART:20201101T060000
END:STANDARD
BEGIN:DAYLIGHT
TZOFFSETFROM:-0500
TZOFFSETTO:-0400
TZNAME:EDT
DTSTART:20210314T070000
END:DAYLIGHT
BEGIN:STANDARD
TZOFFSETFROM:-0400
TZOFFSETTO:-0500
TZNAME:EST
DTSTART:20211107T060000
END:STANDARD
BEGIN:DAYLIGHT
TZOFFSETFROM:-0500
TZOFFSETTO:-0400
TZNAME:EDT
DTSTART:20220313T070000
END:DAYLIGHT
BEGIN:STANDARD
TZOFFSETFROM:-0400
TZOFFSETTO:-0500
TZNAME:EST
DTSTART:20221106T060000
END:STANDARD
END:VTIMEZONE
BEGIN:VEVENT
DTSTART;TZID=America/New_York:20210306T090000
DTEND;TZID=America/New_York:20210306T110000
DTSTAMP:20260420T074318
CREATED:20210301T145514Z
LAST-MODIFIED:20210301T152827Z
UID:7678-1615021200-1615028400@stjohnsriverkeeper.org
SUMMARY:Middle Basin: Black Water Creek Bridges Cleanup
DESCRIPTION:Join us in supporting the Wekiva Wild & Scenic River System during their annual bridges cleanup. Show up and help remove litter and debris from three different bridges in the Seminole State Forest. \nWe will meet at the Lake Norris Conservation Area East Trailhead at 9:00 AM. We will go over paperwork\, hand out supplies (grabbers\, trash bags\, gloves\, etc.) and divide the group into teams. The number of teams depends on how many participants. We will be cleaning up under three bridges\, SR 44\, CR 44A\, and Lake Norris Rd. Bridge. \nMask and physical distancing will be in place. We will have gloves and hand sanitizer available. Please wear weather appropriate clothes and proper footwear. Everyone will have to sign paperwork on arrival.
URL:https://stjohnsriverkeeper.org/event/annual-black-water-creek-bridges-cleanup/
LOCATION:Lake Norris Conservation East Trailhead\, 24542 Blackwater Creek Rd\, Eustis\, FL\, 32736\, United States
ATTACH;FMTTYPE=image/jpeg:https://stjohnsriverkeeper.org/wp-content/uploads/2021/03/20200314_081731-300x225-1.jpg
ORGANIZER;CN="Gabbie Milch":MAILTO:gabbie@stjohnsriverkeeper.org
END:VEVENT
BEGIN:VEVENT
DTSTART;TZID=America/New_York:20210310T120000
DTEND;TZID=America/New_York:20210310T130000
DTSTAMP:20260420T074318
CREATED:20210301T145141Z
LAST-MODIFIED:20210301T145141Z
UID:7675-1615377600-1615381200@stjohnsriverkeeper.org
SUMMARY:Moving Water Talk
DESCRIPTION:Join author and WMFE journalist\, Amy Green on March 10th for a conversation to coincide with the publication of her new book\, Moving Water The Everglades and Big Sugar. Described as an “engrossing expose” and “political storytelling at its best” the conversation is sure to enlighten about Florida’s unique environmental treasures. \nAmy will be interviewed by our own Middle Basin Advocacy Coordinator\, Gabbie Milch\, who was also the former Co-Chair of the League of Women Voter’s of Orange County Natural Resources Committee. Free event\, all are welcome.
URL:https://stjohnsriverkeeper.org/event/moving-water-talk/
LOCATION:FL
ATTACH;FMTTYPE=image/png:https://stjohnsriverkeeper.org/wp-content/uploads/2021/03/57ef807c-984d-450c-865a-189a7f07599e.png
ORGANIZER;CN="Gabbie Milch":MAILTO:gabbie@stjohnsriverkeeper.org
END:VEVENT
BEGIN:VEVENT
DTSTART;TZID=America/New_York:20210320T090000
DTEND;TZID=America/New_York:20210320T110000
DTSTAMP:20260420T074318
CREATED:20210301T152401Z
LAST-MODIFIED:20210317T132527Z
UID:7683-1616230800-1616238000@stjohnsriverkeeper.org
SUMMARY:Rising Tides: McCoy's Creek St. Johns River Celebration Cleanup
DESCRIPTION:St. Johns Riverkeeper will partner with the City of Jacksonville for the St. Johns River Celebration Cleanup.! As always all of our cleanups are RAIN or SHINE! \n**MASKS REQUIRED as well as social distancing** \n\nJoin the Rising Tides at Hollybrook Park as we remove plastic bottles\, cigarette butts\, kids toys and tires – all items disposed of from recent rains – out of McCoys Creek. This cleanup is a great one for families or people of all ages\, and we welcome everyone from the neighborhood\, including Riverside\, Murray Hill\, north Riverside and Brooklyn to participate.\nBags and gloves will be provided. Bring your own water bottle and wear close-toed or waterproof shoes.\n\nFor a full list of St. Johns River Celebration locations in Duval County\, visit \n\nbit.ly/StJohnsRiverCleanup\n\n\n\n\nIf you have any questions\, please contact Rising Tides Cleanup Chair Alicia Smith at alicia818@hotmail.com or (904) 563-5160. \nLet Us Know You’re Coming & Stay-In-the-Know about Future Cleanups!\nSIGN UP
URL:https://stjohnsriverkeeper.org/event/rising-tides-mccoys-creek-cleanup-6/
LOCATION:Hollybrook Park\, 319 Cherokee Street\, Jacksonville\, FL\, 32254
ATTACH;FMTTYPE=image/jpeg:https://stjohnsriverkeeper.org/wp-content/uploads/2021/01/72140195_2534878246581682_8194586756528472064_n.jpg
ORGANIZER;CN="Alicia Smith":MAILTO:Alicia818@hotmail.com
END:VEVENT
BEGIN:VEVENT
DTSTART;TZID=America/New_York:20210320T150000
DTEND;TZID=America/New_York:20210320T170000
DTSTAMP:20260420T074318
CREATED:20210111T194736Z
LAST-MODIFIED:20210302T205231Z
UID:7534-1616252400-1616259600@stjohnsriverkeeper.org
SUMMARY:Tiny Dock Series Concert
DESCRIPTION:Saturday\, March 20\, 2021\n3-5pm with Grammy-nominated Dave Eggar and Company\nLocation: Ortega River just west of Sadler Marina\n\n\n\n \nSet your anchors once again for a beautiful evening on the Ortega River. We are proud to be a partner of the Tiny Dock Concert Series! In a fun and safe way\, we’re able to bring our River community together to foster awareness and appreciation for the health of the St. Johns\, increase utilization of our Riverfront\, and engage with River users. All while supporting musicians and local businesses. Come on out by boat\, kayak\, SUP\, or St. Johns River Taxi and enjoy live music and updates from Riverkeeper staff. \nAbout Dave Eggar and Company | Grammy nominated Dave Eggar and Company will take us through an exciting evening inspired by their tours with foreigner and their own modern compositions. Trained at the elite Julliard School we are honored to have him take the “stage”. Check them out! \n\n\n\n\nWe couldn’t do this without the support of our generous sponsors: Sadler Point Marine Center\, TowBoat US\, Carefree Boat Club\, and Spoiled Life.\nAll proceeds after expenses will benefit St. Johns Riverkeeper. Free event\, but ticket donations are welcome! \n\n\nGet Your Ticket\nFrequently Asked Questions:\nIs the Concert at Sadler Point Marina?\n– No\, the concert is not at Sadler\, but close! It’s just west of Sadler (short boat ride) on the Ortega River. You’ll see the “Tiny Dock” and boats coming together!\nWill there be food served?\n– No food will be served. But you can get your own dinner to go! Support one of our Sponsors by Ordering from High Tide Burrito (Ortega Location) and pickup dockside at Sadler Marina.\nI don’t have a motorized boat\, but can I still paddle to the Concert?\n– You don’t have to have a motorized boat to join us. The “Tiny Dock” is down the river from the Seminole Canoe and Kayak Club where we have set up a safe zone just for our friends coming by personal watercraft.\n– We are also a mere 1/2 mile from Wayne B Stevens and Curtis Lee Johnson boat ramps making it easy to drop in before and after.\nWhat if I don’t have a motorized boat or a kayak\, canoe\, or SUP?\n– St. Johns River Taxi has you covered! Head to their website to book a seat on one of their (socially distanced) ferries.
URL:https://stjohnsriverkeeper.org/event/tinydockconcert-march/
LOCATION:FL
ATTACH;FMTTYPE=image/jpeg:https://stjohnsriverkeeper.org/wp-content/uploads/2021/01/151562129_251796753281562_4952496080319371453_o.jpg
ORGANIZER;CN="Kelly Thompson":MAILTO:kelly@stjohnsriverkeeper.org
END:VEVENT
BEGIN:VEVENT
DTSTART;TZID=America/New_York:20210326T120000
DTEND;TZID=America/New_York:20210326T130000
DTSTAMP:20260420T074318
CREATED:20210311T162053Z
LAST-MODIFIED:20210312T152208Z
UID:7849-1616760000-1616763600@stjohnsriverkeeper.org
SUMMARY:Watershed Watch Chats | Biosolids
DESCRIPTION:Biosolids: a growing concern and legal strategies\nPresenters: St. Johns Riverkeeper and Public Trust Law\nJoin Lisa Rinaman\, St. Johns Riverkeeper\, and John November\, Public Trust Law\, as we\ndiscuss biosolids with a focus on the Middle Basin.\n  \nREGISTER
URL:https://stjohnsriverkeeper.org/event/watershed-watch-chats-march-26/
LOCATION:FL
ATTACH;FMTTYPE=image/png:https://stjohnsriverkeeper.org/wp-content/uploads/2021/03/FB-Watershed-Watch-Chats-Public-Trust-Law.png
END:VEVENT
BEGIN:VEVENT
DTSTART;TZID=America/New_York:20210331T191500
DTEND;TZID=America/New_York:20210331T201500
DTSTAMP:20260420T074318
CREATED:20210326T145811Z
LAST-MODIFIED:20210326T145820Z
UID:8118-1617218100-1617221700@stjohnsriverkeeper.org
SUMMARY:Youth Leadership Jax Presents Riverfront Parks Now
DESCRIPTION:Youth Leadership Jacksonville 2021 is hosting a Zoom session to share the work of Riverfront Parks Now with LJ alumni\, family and friends. This group has inspired YLJ participants and they want to educate\, connect and inspire you! \nRiverfront Parks Now envisions a connected network of extensive public green space and active parks along Jacksonville’s downtown riverfront that maximizes public access\, reconnects the community to our river and creates a sense of place. \nTime: 7:15 to 8:15 p.m.\nDate: Wednesday\, March 31\, 2021\nLocation: Virtual – Zoom Meeting\nMeeting ID: 858 7381 9306\nPasscode: 453075 \nThis event is free and open to the public. No registration is necessary.\nGraphics designed by Charlotte C. (YLJ 2021)
URL:https://stjohnsriverkeeper.org/event/ylp-riverfrontparksnow/
LOCATION:FL
ATTACH;FMTTYPE=image/jpeg:https://stjohnsriverkeeper.org/wp-content/uploads/2021/03/159480788_10157594627901695_1454408121239558260_o.jpg
END:VEVENT
END:VCALENDAR