

BEGIN:VCALENDAR
VERSION:2.0
PRODID:-//St. Johns Riverkeeper - ECPv6.15.20//NONSGML v1.0//EN
CALSCALE:GREGORIAN
METHOD:PUBLISH
X-ORIGINAL-URL:https://stjohnsriverkeeper.org
X-WR-CALDESC:Events for St. Johns Riverkeeper
REFRESH-INTERVAL;VALUE=DURATION:PT1H
X-Robots-Tag:noindex
X-PUBLISHED-TTL:PT1H
BEGIN:VTIMEZONE
TZID:America/New_York
BEGIN:DAYLIGHT
TZOFFSETFROM:-0500
TZOFFSETTO:-0400
TZNAME:EDT
DTSTART:20200308T070000
END:DAYLIGHT
BEGIN:STANDARD
TZOFFSETFROM:-0400
TZOFFSETTO:-0500
TZNAME:EST
DTSTART:20201101T060000
END:STANDARD
BEGIN:DAYLIGHT
TZOFFSETFROM:-0500
TZOFFSETTO:-0400
TZNAME:EDT
DTSTART:20210314T070000
END:DAYLIGHT
BEGIN:STANDARD
TZOFFSETFROM:-0400
TZOFFSETTO:-0500
TZNAME:EST
DTSTART:20211107T060000
END:STANDARD
BEGIN:DAYLIGHT
TZOFFSETFROM:-0500
TZOFFSETTO:-0400
TZNAME:EDT
DTSTART:20220313T070000
END:DAYLIGHT
BEGIN:STANDARD
TZOFFSETFROM:-0400
TZOFFSETTO:-0500
TZNAME:EST
DTSTART:20221106T060000
END:STANDARD
END:VTIMEZONE
BEGIN:VEVENT
DTSTART;TZID=America/New_York:20210117T100000
DTEND;TZID=America/New_York:20210117T120000
DTSTAMP:20260422T102921
CREATED:20210112T202308Z
LAST-MODIFIED:20210112T203534Z
UID:7556-1610877600-1610884800@stjohnsriverkeeper.org
SUMMARY:Rising Tides: McCoy's Creek Cleanup
DESCRIPTION:Join us for our monthly cleanup on McCoys Creek! As always all of our cleanups are RAIN or SHINE! \n**MASKS REQUIRED as well as social distancing** \nWhat to Bring:\nReusable Water Bottle\nHat & Sunglasses\nYou must wear closed toe shoes\n(rain boots\, work boots\, or waders are extremely helpful)\nHeavy duty gloves (if desired)\nCleanup gloves and bags will be provided by City of Jacksonville and Keep Jacksonville Beautiful.\n\nIf you have any questions\, please contact Rising Tides Cleanup Chair Alicia Smith at alicia818@hotmail.com or (904) 563-5160. \nLet Us Know You’re Coming & Stay-In-the-Know about Future Cleanups!\nSIGN UP
URL:https://stjohnsriverkeeper.org/event/rising-tides-mccoys-creek-cleanup-4/
LOCATION:2842 Edison Ave\, Jacksonville\, FL 32254\, 2842 Edison Avenue\, Jacksonville\, FL\, 32254\, United States
ATTACH;FMTTYPE=image/jpeg:https://stjohnsriverkeeper.org/wp-content/uploads/2021/01/72140195_2534878246581682_8194586756528472064_n.jpg
ORGANIZER;CN="Alicia Smith":MAILTO:Alicia818@hotmail.com
END:VEVENT
END:VCALENDAR