

BEGIN:VCALENDAR
VERSION:2.0
PRODID:-//St. Johns Riverkeeper - ECPv6.15.20//NONSGML v1.0//EN
CALSCALE:GREGORIAN
METHOD:PUBLISH
X-ORIGINAL-URL:https://stjohnsriverkeeper.org
X-WR-CALDESC:Events for St. Johns Riverkeeper
REFRESH-INTERVAL;VALUE=DURATION:PT1H
X-Robots-Tag:noindex
X-PUBLISHED-TTL:PT1H
BEGIN:VTIMEZONE
TZID:America/New_York
BEGIN:DAYLIGHT
TZOFFSETFROM:-0500
TZOFFSETTO:-0400
TZNAME:EDT
DTSTART:20190310T070000
END:DAYLIGHT
BEGIN:STANDARD
TZOFFSETFROM:-0400
TZOFFSETTO:-0500
TZNAME:EST
DTSTART:20191103T060000
END:STANDARD
BEGIN:DAYLIGHT
TZOFFSETFROM:-0500
TZOFFSETTO:-0400
TZNAME:EDT
DTSTART:20200308T070000
END:DAYLIGHT
BEGIN:STANDARD
TZOFFSETFROM:-0400
TZOFFSETTO:-0500
TZNAME:EST
DTSTART:20201101T060000
END:STANDARD
BEGIN:DAYLIGHT
TZOFFSETFROM:-0500
TZOFFSETTO:-0400
TZNAME:EDT
DTSTART:20210314T070000
END:DAYLIGHT
BEGIN:STANDARD
TZOFFSETFROM:-0400
TZOFFSETTO:-0500
TZNAME:EST
DTSTART:20211107T060000
END:STANDARD
END:VTIMEZONE
BEGIN:VEVENT
DTSTART;TZID=America/New_York:20200909T160000
DTEND;TZID=America/New_York:20200909T170000
DTSTAMP:20260424T075957
CREATED:20200720T191827Z
LAST-MODIFIED:20200824T165722Z
UID:6549-1599667200-1599670800@stjohnsriverkeeper.org
SUMMARY:River Rising Webcast | Episode 8: Resiliency Through the Tree Canopy
DESCRIPTION:Episode 8 – Resiliency through the Tree Canopy\nGuest: Karen Firehock\, Executive Director\, Green Infrastructure Center\nRead before listening \nJoin us as we discuss trees and their role in a resilient future with guest\, Karen Firehock\, Executive Director\, Green Infrastructure Center Inc. that recently completed the City of Jacksonville Urban Tree Canopy Assessment. \n REGISTER  
URL:https://stjohnsriverkeeper.org/event/river-rising-webcast-episode-8-cities-are-solving-climate-change/
LOCATION:FL
ATTACH;FMTTYPE=image/png:https://stjohnsriverkeeper.org/wp-content/uploads/2020/07/Advocacy-Wednesday-Webinars-Take-Action.png
END:VEVENT
BEGIN:VEVENT
DTSTART;TZID=America/New_York:20200923T160000
DTEND;TZID=America/New_York:20200923T170000
DTSTAMP:20260424T075957
CREATED:20200827T132922Z
LAST-MODIFIED:20200827T132922Z
UID:6764-1600876800-1600880400@stjohnsriverkeeper.org
SUMMARY:River Rising Webcast | Episode 9: Voting to Fix Climate Change
DESCRIPTION:Episode 9 – Voting to Fix Climate Change\nAliki Moncrief\, Executive Director\, Florida Conservation Voters \nFor eight years in Florida\, the term “Climate Change” was banned. Join us to discuss where and how our votes can lead to the most substantial results for solving climate change issues in our watershed and our world. \n REGISTER  
URL:https://stjohnsriverkeeper.org/event/river-rising-webcast-episode-9-voting-to-fix-climate-change/
LOCATION:FL
ATTACH;FMTTYPE=image/png:https://stjohnsriverkeeper.org/wp-content/uploads/2020/08/Advocacy-Wednesday-Webinars-Take-Action-2.png
END:VEVENT
END:VCALENDAR