

BEGIN:VCALENDAR
VERSION:2.0
PRODID:-//St. Johns Riverkeeper - ECPv6.15.20//NONSGML v1.0//EN
CALSCALE:GREGORIAN
METHOD:PUBLISH
X-ORIGINAL-URL:https://stjohnsriverkeeper.org
X-WR-CALDESC:Events for St. Johns Riverkeeper
REFRESH-INTERVAL;VALUE=DURATION:PT1H
X-Robots-Tag:noindex
X-PUBLISHED-TTL:PT1H
BEGIN:VTIMEZONE
TZID:America/New_York
BEGIN:DAYLIGHT
TZOFFSETFROM:-0500
TZOFFSETTO:-0400
TZNAME:EDT
DTSTART:20240310T070000
END:DAYLIGHT
BEGIN:STANDARD
TZOFFSETFROM:-0400
TZOFFSETTO:-0500
TZNAME:EST
DTSTART:20241103T060000
END:STANDARD
BEGIN:DAYLIGHT
TZOFFSETFROM:-0500
TZOFFSETTO:-0400
TZNAME:EDT
DTSTART:20250309T070000
END:DAYLIGHT
BEGIN:STANDARD
TZOFFSETFROM:-0400
TZOFFSETTO:-0500
TZNAME:EST
DTSTART:20251102T060000
END:STANDARD
BEGIN:DAYLIGHT
TZOFFSETFROM:-0500
TZOFFSETTO:-0400
TZNAME:EDT
DTSTART:20260308T070000
END:DAYLIGHT
BEGIN:STANDARD
TZOFFSETFROM:-0400
TZOFFSETTO:-0500
TZNAME:EST
DTSTART:20261101T060000
END:STANDARD
END:VTIMEZONE
BEGIN:VEVENT
DTSTART;TZID=America/New_York:20251003T090000
DTEND;TZID=America/New_York:20251003T110000
DTSTAMP:20260424T081806
CREATED:20250904T182405Z
LAST-MODIFIED:20250904T182405Z
UID:14802-1759482000-1759489200@stjohnsriverkeeper.org
SUMMARY:Resilient Ribault: Memorial Cemetery Cleanup
DESCRIPTION:Resilient Ribault: Memorial Cemetery Cleanup | Friday\, October 3 from 9-11 a.m. at Memorial Cemetery (6073 Moncrief Rd\, Jacksonville\, FL 32209)\nHelp us clean up this historic cemetery in the Ribault River watershed ahead of our Cemetery Tour with Ennis Davis on October 4. \nIt’s been said that a city’s history is written on its tombstones\, and nowhere is this truer than at Memorial Cemetery\, one of Jacksonville’s largest historic African American cemeteries. \nParking\nAddress: 6073 Moncrief Rd\, Jacksonville\, FL 32209 (corner of Edgewood Avenue and Moncrief Road – it is NOT Moncrief Rd W) \nIf you will need to leave early\, please do not pull into the cemetery to park. There is really no place to turn around once you enter. Since there are no designated parking spaces\, vehicles will be parked single file along the dirt road that runs through the cemetery. Also\, consider carpooling\, if you are attending with friends or family. \nRSVP\nRSVP here to let us know you’re coming!
URL:https://stjohnsriverkeeper.org/event/2025-10-resilient-ribault-memorial-cemetery-cleanup/
LOCATION:Memorial Cemetery\, 6073 Moncrief Rd\, Jacksonville\, FL\, 32209\, United States
CATEGORIES:Get Your Feet Wet,Resilient Ribault,Volunteer
ATTACH;FMTTYPE=image/jpeg:https://stjohnsriverkeeper.org/wp-content/uploads/2025/09/IMG_7932-1200x1200-Memorial-Cemetary-Tour.jpg
ORGANIZER;CN="Trey Ford":MAILTO:trey@stjohnsriverkeeper.org
END:VEVENT
BEGIN:VEVENT
DTSTART;VALUE=DATE:20251006
DTEND;VALUE=DATE:20251013
DTSTAMP:20260424T081806
CREATED:20250917T155613Z
LAST-MODIFIED:20250922T190457Z
UID:14850-1759708800-1760313599@stjohnsriverkeeper.org
SUMMARY:Climate Week
DESCRIPTION:Climate Week with the City of Jacksonville | October 6-12\nMonday\, October 6: Climate Kick-off at City Hall – 11 a.m. – 2 p.m. | Jacksonville City Hall atrium\nJoin the City of Jacksonville\, Volo Foundation\, and St. Johns Riverkeeper to kick off Climate Week! Hear from Mayor Deegan\, Sustainability Director Green\, Volo Foundation\, and St. Johns Riverkeeper at City Hall for the Climate Week proclamation and presentation. Walk around to visit booths and learn from eco-minded organizations\, and participate in the raffle! \nWednesday\, October 8: Resilient Ribault Boat Tour | 12-1 p.m. | Bert Maxwell Boat Ramp\nCelebrate Florida Climate Week with a river cruise on the Ribault River. This sunset boat tour will be the perfect way to show Northside Pride with a friend! Learn about the wildlife along the Ribault River and the fishing community that has lived along these shores for decades. \nYour hosts will help you discover a newfound appreciation for Jacksonville’s Northside and nature. This boat tour is where conservation meets culture. Explore the St. Johns watershed with Northside Pride\, St. Johns Riverkeeper\, and Jacksonville University. \nReserve your spot here! \nFriday\, October 10: ECO Disco | 6-9 p.m. | James Weldon Johnson Park\nDJ Mas Appeal and Friends of James Weldon Johnson Park are throwing a silent disco! Come listen to music\, climate storytelling\, PSA’s and more. Visit with eco-minded vendors and enjoy sustainable\, vegan-friendly food. \nSaturday\, October 11: UNFILTERED – The Truth About Oysters Film Screening | Noon | MOCA Jax\nUNFILTERED: The Truth About Oysters is an Emmy award-winning documentary film that explores the oyster’s role both in our world and its own. \nAfter The Film: Join the conversation with our panelists locally who are utilizing the power of oysters to help filter the St. Johns River. \nRSVP here to reserve your spot! \nSaturday\, October 12: Green Walk and Talk | 3:30-5 p.m. | Tillie K. Fowler Regional Park\nMeet at the nature center to go on the first guided nature walk in a monthly series with naturalist education on local ecology\, climate resilience\, and wellness.
URL:https://stjohnsriverkeeper.org/event/2025-climate-week/
LOCATION:FL
CATEGORIES:Get Your Feet Wet,Resilient Ribault
ATTACH;FMTTYPE=image/jpeg:https://stjohnsriverkeeper.org/wp-content/uploads/2025/09/JFL-Climate-Week-Flyer-Revised-copy.jpg
ORGANIZER;CN="Trey Ford":MAILTO:trey@stjohnsriverkeeper.org
END:VEVENT
BEGIN:VEVENT
DTSTART;TZID=America/New_York:20251008T113000
DTEND;TZID=America/New_York:20251008T133000
DTSTAMP:20260424T081806
CREATED:20250929T162825Z
LAST-MODIFIED:20250929T162825Z
UID:14876-1759923000-1759930200@stjohnsriverkeeper.org
SUMMARY:Ribault River Boat Tour
DESCRIPTION:Ribault River Boat Tour | Wednesday\, October 8 from 11:30 a.m. | Bert Maxwell Boat Ramp\nCelebrate Florida Climate Week with a river cruise on the Ribault River. This lunchtime boat tour will be the perfect way to share your love of our local waterways with a friend! Learn about the wildlife along the Ribault River and the fishing community that has lived along these shores for decades. \nYour hosts will help you discover a newfound appreciation for Jacksonville’s Northside and the surrounding nature. This boat tour is where conservation meets culture. Explore the St. Johns watershed with Northside Pride\, St. Johns Riverkeeper\, and Jacksonville University. \nPlease arrive at 11:30 a.m. The boat will load at 11:45 a.m. and leave promptly at Noon. These tours rely on the tide\, and a timely departure will ensure our success on the waterways. \nRegister\nPlease register here on Eventbrite for just $10.
URL:https://stjohnsriverkeeper.org/event/2025-10-ribault-river-boat-tour-climate-week/
LOCATION:Bert Maxwell Boat Ramp\, 500 Maxwell Rd.\, Jacksonville\, FL\, 32218\, United States
CATEGORIES:Get Your Feet Wet,Resilient Ribault
ATTACH;FMTTYPE=image/jpeg:https://stjohnsriverkeeper.org/wp-content/uploads/2025/09/2025-10-Climate-Week-Boat-Tour.jpg
ORGANIZER;CN="Trey Ford":MAILTO:trey@stjohnsriverkeeper.org
END:VEVENT
BEGIN:VEVENT
DTSTART;TZID=America/New_York:20251018T090000
DTEND;TZID=America/New_York:20251018T120000
DTSTAMP:20260424T081807
CREATED:20250922T205925Z
LAST-MODIFIED:20250922T210204Z
UID:14870-1760778000-1760788800@stjohnsriverkeeper.org
SUMMARY:VOG Creation Workshop
DESCRIPTION:VOG Creation Workshop | Saturday\, October 18 from 9 a.m. – Noon at the Jacksonville University Marine Science Research Institute Building\nSt. Johns RIVERKEEPER\, CCA Florida and the Marine Science Research Institute at Jacksonville University have teamed up to launch a Vertical Oyster Garden (VOG) Program in the Jacksonville area. Vertical Oyster Gardens consist of recycled oyster shells that are strung together to create habitat for new oysters along with many other species of marine invertebrates. A single adult oyster has the ability to filter up to 50 gallons of water per day and each VOG can accumulate dozens of new oysters in just a few months. The goal is to distribute hundreds of VOGs throughout the Jacksonville area to improve water quality and create new oyster habitats. The Marine Science Research Institute at Jacksonville University will be incorporating a research aspect into this project with plans to monitor the VOGs following the deployments. \nEvent Details\nWe are hosting an assembly workshop to build a third batch of VOGs for local residents. There will be stations to punch holes in the recycled oyster shells\, string them on the rope\, and tie them. Bring garden gloves if you have them as the oyster shells can be hard and rigid. \nRegister\nRegister here to volunteer! Spots are limited in this workshop. \nSt. Johns River VOG Program\nLearn more about the St. Johns River VOG Program here. If you live on the St. Johns River\, or a tributary\, north of the Arlington River – you can request your own VOGs.
URL:https://stjohnsriverkeeper.org/event/2025-10-vog-creation-workshop/
LOCATION:JU Marine Science Research Institute Bldg.\, Marine Science Research Institute\, River Road\, Jacksonville\, FL\, 32211\, United States
CATEGORIES:Advocacy,Get Your Feet Wet,Resilient Ribault,Volunteer
ATTACH;FMTTYPE=image/jpeg:https://stjohnsriverkeeper.org/wp-content/uploads/2025/09/2025-10-VOG-Workshop-600x600-1.jpg
ORGANIZER;CN="Trey Ford":MAILTO:trey@stjohnsriverkeeper.org
END:VEVENT
END:VCALENDAR