

BEGIN:VCALENDAR
VERSION:2.0
PRODID:-//St. Johns Riverkeeper - ECPv6.15.20//NONSGML v1.0//EN
CALSCALE:GREGORIAN
METHOD:PUBLISH
X-WR-CALNAME:St. Johns Riverkeeper
X-ORIGINAL-URL:https://stjohnsriverkeeper.org
X-WR-CALDESC:Events for St. Johns Riverkeeper
REFRESH-INTERVAL;VALUE=DURATION:PT1H
X-Robots-Tag:noindex
X-PUBLISHED-TTL:PT1H
BEGIN:VTIMEZONE
TZID:America/New_York
BEGIN:DAYLIGHT
TZOFFSETFROM:-0500
TZOFFSETTO:-0400
TZNAME:EDT
DTSTART:20240310T070000
END:DAYLIGHT
BEGIN:STANDARD
TZOFFSETFROM:-0400
TZOFFSETTO:-0500
TZNAME:EST
DTSTART:20241103T060000
END:STANDARD
BEGIN:DAYLIGHT
TZOFFSETFROM:-0500
TZOFFSETTO:-0400
TZNAME:EDT
DTSTART:20250309T070000
END:DAYLIGHT
BEGIN:STANDARD
TZOFFSETFROM:-0400
TZOFFSETTO:-0500
TZNAME:EST
DTSTART:20251102T060000
END:STANDARD
BEGIN:DAYLIGHT
TZOFFSETFROM:-0500
TZOFFSETTO:-0400
TZNAME:EDT
DTSTART:20260308T070000
END:DAYLIGHT
BEGIN:STANDARD
TZOFFSETFROM:-0400
TZOFFSETTO:-0500
TZNAME:EST
DTSTART:20261101T060000
END:STANDARD
END:VTIMEZONE
BEGIN:VEVENT
DTSTART;TZID=America/New_York:20250904T173000
DTEND;TZID=America/New_York:20250904T190000
DTSTAMP:20260422T114641
CREATED:20250825T145105Z
LAST-MODIFIED:20250825T145105Z
UID:14736-1757007000-1757012400@stjohnsriverkeeper.org
SUMMARY:904 Day Cleanup with Rep. Angie Nixon
DESCRIPTION:904 Day Cleanup with Rep. Angie Nixon | Thursday\, September 4 from 5:30-7 p.m. | Starting at Cafe Resistance\nJoin Representative Angie Nixon and St. Johns Riverkeeper to clean up Soutel Drive\, the Legends Center\, and Lonnie Miller Park. This is part of our Resilient Ribault initiative. We will meet at Cafe Resistance\, and they will provide complimentary smoothies after the cleanup. \nRegister\nPlease RSVP here and let us know you plan to join us!
URL:https://stjohnsriverkeeper.org/event/2025-904-day-clean-up-with-rep-angie-nixon/
LOCATION:Cafe Resistance\, 5007 Soutel Dr\, Jacksonville\, FL\, 32208\, United States
CATEGORIES:Get Your Feet Wet,Resilient Ribault,Volunteer
ATTACH;FMTTYPE=image/jpeg:https://stjohnsriverkeeper.org/wp-content/uploads/2025/08/cleanup-ribault.jpg
END:VEVENT
BEGIN:VEVENT
DTSTART;TZID=America/New_York:20250904T183000
DTEND;TZID=America/New_York:20250904T200000
DTSTAMP:20260422T114641
CREATED:20250828T155445Z
LAST-MODIFIED:20250828T155445Z
UID:14781-1757010600-1757016000@stjohnsriverkeeper.org
SUMMARY:Ribault River Boat Tour: Celebrating 904 Day
DESCRIPTION:Ribault River Boat Tour: Celebrating 904 Day | Thursday\, September 4 from 6:30-8 p.m. | Bert Maxwell Boat Ramp\nCelebrate 904 Day with a river cruise on the Ribault River. This sunset boat tour will be the perfect way to share your love of the 904 with a friend! Learn about the wildlife along the Ribault River and the fishing community that has lived along these shores for decades. \nYour hosts will help you discover a newfound appreciation for Jacksonville’s Northside and the surrounding nature. This boat tour is where conservation meets culture. Explore the St. Johns watershed with Northside Pride\, St. Johns Riverkeeper\, and Jacksonville University. \nPlease arrive at 6:30 p.m. The boat will load at 6:45 PM and leave promptly at 7 p.m. These tours rely on the tide\, and a timely departure will ensure our success on the waterways. \nRegister\nPlease register here on Eventbrite\, for a low fee of $9.04 in celebration of 904 Day!
URL:https://stjohnsriverkeeper.org/event/2025-09-ribault-river-boat-tour-celebrating-904-day/
LOCATION:Bert Maxwell Boat Ramp\, 500 Maxwell Rd.\, Jacksonville\, FL\, 32218\, United States
CATEGORIES:Get Your Feet Wet,Resilient Ribault
ATTACH;FMTTYPE=image/jpeg:https://stjohnsriverkeeper.org/wp-content/uploads/2025/08/904-Day-Boat-Tour-600x600-1.jpg
ORGANIZER;CN="Trey Ford":MAILTO:trey@stjohnsriverkeeper.org
END:VEVENT
BEGIN:VEVENT
DTSTART;TZID=America/New_York:20250916T183000
DTEND;TZID=America/New_York:20250916T183000
DTSTAMP:20260422T114641
CREATED:20250902T202524Z
LAST-MODIFIED:20250902T202625Z
UID:14797-1758047400-1758047400@stjohnsriverkeeper.org
SUMMARY:Underwater Projects Film Screening
DESCRIPTION:Underwater Projects Film Screening | Tuesday\, September 16 at 6:30 p.m. | No Bird (2078 N Liberty St\, Jacksonville\, FL 32206)\nJoin 904WARD and St. Johns Riverkeeper for “The People’s Canvas” – a powerful evening of film and community dialogue! \nWe are screening “Underwater Projects” – a compelling film exploring communities on the frontlines of climate and justice issues. \nFollowing the film\, we’ll dive into crucial conversations about: \n\nCurriculum Censorship in Florida\nThe Age of Arrest for Youth\n\nThis isn’t just a movie night – it’s about bridging environmental justice\, education\, and juvenile justice for real community change. \nHosted by 904WARD Advocacy & Policy Committee in partnership with St. Johns Riverkeeper. \nVoices Above Water: Protecting Youth\, Preserving Truth \nRSVP not necessary.
URL:https://stjohnsriverkeeper.org/event/2025-09-underwater-projects-film-screening/
LOCATION:No Bird\, 2078 N Liberty St\, Jacksonville\, FL\, 32206\, United States
CATEGORIES:Resilient Ribault
ATTACH;FMTTYPE=image/png:https://stjohnsriverkeeper.org/wp-content/uploads/2025/09/4427545682856131691.png
ORGANIZER;CN="Trey Ford":MAILTO:trey@stjohnsriverkeeper.org
END:VEVENT
END:VCALENDAR