

BEGIN:VCALENDAR
VERSION:2.0
PRODID:-//St. Johns Riverkeeper - ECPv6.15.20//NONSGML v1.0//EN
CALSCALE:GREGORIAN
METHOD:PUBLISH
X-WR-CALNAME:St. Johns Riverkeeper
X-ORIGINAL-URL:https://stjohnsriverkeeper.org
X-WR-CALDESC:Events for St. Johns Riverkeeper
REFRESH-INTERVAL;VALUE=DURATION:PT1H
X-Robots-Tag:noindex
X-PUBLISHED-TTL:PT1H
BEGIN:VTIMEZONE
TZID:America/New_York
BEGIN:DAYLIGHT
TZOFFSETFROM:-0500
TZOFFSETTO:-0400
TZNAME:EDT
DTSTART:20250309T070000
END:DAYLIGHT
BEGIN:STANDARD
TZOFFSETFROM:-0400
TZOFFSETTO:-0500
TZNAME:EST
DTSTART:20251102T060000
END:STANDARD
BEGIN:DAYLIGHT
TZOFFSETFROM:-0500
TZOFFSETTO:-0400
TZNAME:EDT
DTSTART:20260308T070000
END:DAYLIGHT
BEGIN:STANDARD
TZOFFSETFROM:-0400
TZOFFSETTO:-0500
TZNAME:EST
DTSTART:20261101T060000
END:STANDARD
BEGIN:DAYLIGHT
TZOFFSETFROM:-0500
TZOFFSETTO:-0400
TZNAME:EDT
DTSTART:20270314T070000
END:DAYLIGHT
BEGIN:STANDARD
TZOFFSETFROM:-0400
TZOFFSETTO:-0500
TZNAME:EST
DTSTART:20271107T060000
END:STANDARD
END:VTIMEZONE
BEGIN:VEVENT
DTSTART;TZID=America/New_York:20260506T173000
DTEND;TZID=America/New_York:20260506T173000
DTSTAMP:20260421T204957
CREATED:20260421T162605Z
LAST-MODIFIED:20260421T164034Z
UID:15756-1778088600-1778088600@stjohnsriverkeeper.org
SUMMARY:State of the River Cruise on the St. Johns River Taxi
DESCRIPTION:State of the River Cruise on the St. Johns River Taxi | Wednesday\, May 6\, at 5:30 p.m. | Doubletree Hotel Dock (1201 Riverplace Blvd.\, 32207)\nJoin us for the first in a series of tours on the St. Johns River Taxi. We will be scheduling regular cruises on the River Taxi’s Sunset Dolphin Tours where we will provide speakers to provide important updates on the river\, share their niche knowledge and experience working on or researching the river\, and highlight some of our many riverfront parks here in Jacksonville. \nFor this first cruise we will be joined by St. Johns Riverkeeper Executive Director\, Jimmy Orth\, who will share some fun facts about the St. Johns\, update you on the work SJRK is doing and discuss the parks and greenspace in the downtown core. \nWine & beer will be sold on board! Hop aboard and unwind before a great dinner downtown. \nDirections: We will depart from the DoubleTree Hotel Dock\, 1201 Riverplace Blvd.\, 32207\, and cruise east toward Exchange Island where dolphin like to roam. \nTickets\nReserve your ticket here with the St. Johns River Taxi! \nThe boat will board 10 min prior to the published departure time. We look forward to seeing you on the river! \nWhat to bring:\n\nSnacks\, appetizers\nLight jacket\nYour friends!
URL:https://stjohnsriverkeeper.org/event/2026-05-state-of-the-river-cruise-on-the-st-johns-river-taxi/
LOCATION:DoubleTree Hotel Dock\, 1201 Riverplace Blvd\, Jacksonville\, FL\, 32207\, United States
CATEGORIES:Get Your Feet Wet
ATTACH;FMTTYPE=image/jpeg:https://stjohnsriverkeeper.org/wp-content/uploads/2026/04/2026-05-State-of-the-River-Cruise-600x600-1.jpg
END:VEVENT
BEGIN:VEVENT
DTSTART;TZID=America/New_York:20260517T100000
DTEND;TZID=America/New_York:20260517T120000
DTSTAMP:20260421T204957
CREATED:20260416T201848Z
LAST-MODIFIED:20260416T201848Z
UID:15725-1779012000-1779019200@stjohnsriverkeeper.org
SUMMARY:McCoys Creek Cleanup
DESCRIPTION:McCoys Creek Cleanup | Sunday\, May 17\, 2026 from 10 a.m. – Noon at 168 S. Myrtle Ave\nJoin us for our monthly cleanup on McCoys Creek! As always\, all of our cleanups are RAIN or SHINE. These cleanups are open to everyone – the more the merrier! \nWhat to Bring:\n\nFULL Reusable Water Bottle\nHat\, Sunglasses\, Sunscreen\nClosed-toe shoes (required)\nRain boots\, work boots\, or waders are extremely helpful!\nOptional: Heavy duty gloves (if desired)\n\nCleanup gloves and bags will be provided by City of Jacksonville and Keep Jacksonville Beautiful. \nRSVP\nRSVP here to let us know you’re coming! \nIf you have any questions\, please contact Dryden Mills at dryden@stjohnsriverkeeper.org.
URL:https://stjohnsriverkeeper.org/event/2026-05-mccoys-creek-cleanup/
LOCATION:168 S Myrtle Ave\, 168 S Myrtle Ave\, Jacksonville\, FL\, 32204\, United States
CATEGORIES:Get Your Feet Wet,Volunteer
ATTACH;FMTTYPE=image/jpeg:https://stjohnsriverkeeper.org/wp-content/uploads/2026/04/2026-05-McCoys-Creek-Cleanup-600x600-1.jpg
END:VEVENT
BEGIN:VEVENT
DTSTART;TZID=America/New_York:20260529T100000
DTEND;TZID=America/New_York:20260529T140000
DTSTAMP:20260421T204957
CREATED:20260420T194545Z
LAST-MODIFIED:20260420T204246Z
UID:15747-1780048800-1780063200@stjohnsriverkeeper.org
SUMMARY:Paddle the Ocklawaha
DESCRIPTION:Paddle the Ocklawaha with Adventure Outpost | Friday\, May 29 or Saturday\, June 13 | 10 a.m. – 2 p.m. | Ocklawaha River (Palatka)\nJoin us for a 3.5 hour paddling tour of the Ocklawaha River with expert guide Lars Andersen! We will begin just downstream from the Kirkpatrick (formerly Rodman) Dam. This section of the Ocklawaha below the dam is wide and braided. There are numerous side streams and winding forks that make this an interesting area to explore. \nThe wide\, open channel of the Ocklawaha River offers an excellent panorama of river forests and swamps that\, in places\, stretch a half-mile back from the main channel\, and are a refuge for a wonderful menagerie of wildlife with very little sign of civilization. As history buffs dream of Acuera warriors and the steamboats which once plied these waters\, birders and animal lovers will be busy with their binoculars and cameras. In addition to its scenic beauty\, this stretch of the Ocklawaha also serves as an excellent “living museum” of man’s 15\,000 year relationship with nature in Florida. \nA couple of hours into our downstream paddle\, we will stop for lunch at the site of the former river settlement/steamboat landing of Davenport. Also on this site is Davenport Mound\, an ancient Indian burial site first excavated in the 1800’s. \nPrice\nTour & Kayak Rental: $65 \nBring Your Own Kayak/Board: $50 \nRegister\nTo register to join us\, please call Adventure Outpost at (386) 497-4214. Mention the date (May 29\, or June 13) and St. Johns Riverkeeper and have your payment information ready to secure your reservation.
URL:https://stjohnsriverkeeper.org/event/2026-05-paddle-the-ocklawaha/
LOCATION:FL
CATEGORIES:Get Your Feet Wet
ATTACH;FMTTYPE=image/jpeg:https://stjohnsriverkeeper.org/wp-content/uploads/2025/03/2025-05-Kayak-the-Ocklawaha-600x600-1.jpg
END:VEVENT
BEGIN:VEVENT
DTSTART;TZID=America/New_York:20260613T100000
DTEND;TZID=America/New_York:20260613T140000
DTSTAMP:20260421T204957
CREATED:20260420T195034Z
LAST-MODIFIED:20260420T204315Z
UID:15749-1781344800-1781359200@stjohnsriverkeeper.org
SUMMARY:Paddle the Ocklawaha
DESCRIPTION:Paddle the Ocklawaha with Adventure Outpost | Saturday\, June 13 | 10 a.m. – 2 p.m. | Ocklawaha River (Palatka)\nJoin us for a 3.5 hour paddling tour of the Ocklawaha River with expert guide Lars Andersen! We will begin just downstream from the Kirkpatrick (formerly Rodman) Dam. This section of the Ocklawaha below the dam is wide and braided. There are numerous side streams and winding forks that make this an interesting area to explore. \nThe wide\, open channel of the Ocklawaha River offers an excellent panorama of river forests and swamps that\, in places\, stretch a half-mile back from the main channel\, and are a refuge for a wonderful menagerie of wildlife with very little sign of civilization. As history buffs dream of Acuera warriors and the steamboats which once plied these waters\, birders and animal lovers will be busy with their binoculars and cameras. In addition to its scenic beauty\, this stretch of the Ocklawaha also serves as an excellent “living museum” of man’s 15\,000 year relationship with nature in Florida. \nA couple of hours into our downstream paddle\, we will stop for lunch at the site of the former river settlement/steamboat landing of Davenport. Also on this site is Davenport Mound\, an ancient Indian burial site first excavated in the 1800’s. \nPrice\nTour & Kayak Rental: $65 \nBring Your Own Kayak/Board: $50 \nRegister\nTo register to join us\, please call Adventure Outpost at (386) 497-4214. Mention the date (May 29\, or June 13) and St. Johns Riverkeeper and have your payment information ready to secure your reservation.
URL:https://stjohnsriverkeeper.org/event/2026-06-paddle-the-ocklawaha/
LOCATION:FL
CATEGORIES:Get Your Feet Wet
ATTACH;FMTTYPE=image/jpeg:https://stjohnsriverkeeper.org/wp-content/uploads/2025/03/2025-05-Kayak-the-Ocklawaha-600x600-1.jpg
END:VEVENT
BEGIN:VEVENT
DTSTART;TZID=America/New_York:20260617T170000
DTEND;TZID=America/New_York:20260617T190000
DTSTAMP:20260421T204957
CREATED:20260416T202832Z
LAST-MODIFIED:20260416T202907Z
UID:15728-1781715600-1781722800@stjohnsriverkeeper.org
SUMMARY:McCoys Creek Cleanup
DESCRIPTION:McCoys Creek Cleanup | Wednesday\, June 17\, 2026 from 5-7 p.m. at Northbank Riverwalk (221 Riverside Ave)\nJoin us for our monthly cleanup on McCoys Creek! As always\, all of our cleanups are RAIN or SHINE. These cleanups are open to everyone – the more the merrier! \nWhat to Bring:\n\nFULL Reusable Water Bottle\nHat\, Sunglasses\, Sunscreen\nClosed-toe shoes (required)\nRain boots\, work boots\, or waders are extremely helpful!\nOptional: Heavy duty gloves (if desired)\n\nCleanup gloves and bags will be provided by City of Jacksonville and Keep Jacksonville Beautiful. \nRSVP\nRSVP here to let us know you’re coming! \nIf you have any questions\, please contact Dryden Mills at dryden@stjohnsriverkeeper.org.
URL:https://stjohnsriverkeeper.org/event/2026-06-mccoys-creek-cleanup/
LOCATION:Northbank Riverwalk – 221 Riverside Ave\, 221 Riverside Ave\, Jacksonville\, FL\, 32202\, United States
CATEGORIES:Get Your Feet Wet,Volunteer
ATTACH;FMTTYPE=image/jpeg:https://stjohnsriverkeeper.org/wp-content/uploads/2026/04/2026-06-McCoys-Creek-Cleanup-600x600-1.jpg
END:VEVENT
BEGIN:VEVENT
DTSTART;TZID=America/New_York:20260705T100000
DTEND;TZID=America/New_York:20260705T120000
DTSTAMP:20260421T204957
CREATED:20260407T185140Z
LAST-MODIFIED:20260407T185210Z
UID:15665-1783245600-1783252800@stjohnsriverkeeper.org
SUMMARY:Blue Cypress Park Cleanup with Rising Tides
DESCRIPTION:Blue Cypress Park Cleanup with Rising Tides | Sunday\, July 5 from 10 a.m. – Noon | Blue Cypress Park (4012 University Blvd N)\nAs a part of Jax Parks Adopt-a-Park Program\, Rising Tides has adopted Blue Cypress Preserve Park in the Arlington area of Jacksonville. Every other month\, we will host a cleanup here during the first weekend of that month. We may be at different locations in the park each month – this month we will be cleaning up along the boardwalk. \nWhile these cleanups are hosted by Rising Tides\, our Young Professionals Group\, anyone and all ages are welcome to join. \nRSVP\nLet us know you plan to join us\, and sign the waiver in advance!
URL:https://stjohnsriverkeeper.org/event/2026-07-blue-cypress-park-cleanup-with-rising-tides/
LOCATION:Blue Cypress Park\, 4012 University Blvd N\, Jacksonville\, FL\, 32277\, United States
CATEGORIES:Get Your Feet Wet,Rising Tides,Volunteer
ATTACH;FMTTYPE=image/jpeg:https://stjohnsriverkeeper.org/wp-content/uploads/2026/04/2026-07-Blue-Cypress-Park-Cleanups-600x600-1.jpg
ORGANIZER;CN="Dryden Mills":MAILTO:dryden@stjohnsriverkeeper.org
END:VEVENT
BEGIN:VEVENT
DTSTART;TZID=America/New_York:20260719T100000
DTEND;TZID=America/New_York:20260719T120000
DTSTAMP:20260421T204957
CREATED:20260416T203547Z
LAST-MODIFIED:20260416T203547Z
UID:15731-1784455200-1784462400@stjohnsriverkeeper.org
SUMMARY:McCoys Creek Cleanup
DESCRIPTION:McCoys Creek Cleanup | Sunday\, July 19\, 2026 from 10 a.m. – Noon. at Northbank Riverwalk (221 Riverside Ave)\nJoin us for our monthly cleanup on McCoys Creek! As always\, all of our cleanups are RAIN or SHINE. These cleanups are open to everyone – the more the merrier! \nWhat to Bring:\n\nFULL Reusable Water Bottle\nHat\, Sunglasses\, Sunscreen\nClosed-toe shoes (required)\nRain boots\, work boots\, or waders are extremely helpful!\nOptional: Heavy duty gloves (if desired)\n\nCleanup gloves and bags will be provided by City of Jacksonville and Keep Jacksonville Beautiful. \nRSVP\nRSVP here to let us know you’re coming! \nIf you have any questions\, please contact Dryden Mills at dryden@stjohnsriverkeeper.org.
URL:https://stjohnsriverkeeper.org/event/2026-07-mccoys-creek-cleanup/
LOCATION:Northbank Riverwalk – 221 Riverside Ave\, 221 Riverside Ave\, Jacksonville\, FL\, 32202\, United States
CATEGORIES:Get Your Feet Wet,Volunteer
ATTACH;FMTTYPE=image/jpeg:https://stjohnsriverkeeper.org/wp-content/uploads/2026/04/2026-07-McCoys-Creek-Cleanup-600x600-1.jpg
END:VEVENT
BEGIN:VEVENT
DTSTART;TZID=America/New_York:20260816T100000
DTEND;TZID=America/New_York:20260816T120000
DTSTAMP:20260421T204957
CREATED:20260416T204208Z
LAST-MODIFIED:20260416T204208Z
UID:15734-1786874400-1786881600@stjohnsriverkeeper.org
SUMMARY:McCoys Creek Cleanup
DESCRIPTION:McCoys Creek Cleanup | Sunday\, August 16\, 2026 from 10 a.m. – Noon. at Powers Park\nJoin us for our monthly cleanup on McCoys Creek! As always\, all of our cleanups are RAIN or SHINE. These cleanups are open to everyone – the more the merrier! \nWhat to Bring:\n\nFULL Reusable Water Bottle\nHat\, Sunglasses\, Sunscreen\nClosed-toe shoes (required)\nRain boots\, work boots\, or waders are extremely helpful!\nOptional: Heavy duty gloves (if desired)\n\nCleanup gloves and bags will be provided by City of Jacksonville and Keep Jacksonville Beautiful. \nRSVP\nRSVP here to let us know you’re coming! \nIf you have any questions\, please contact Dryden Mills at dryden@stjohnsriverkeeper.org.
URL:https://stjohnsriverkeeper.org/event/2026-08-mccoys-creek-cleanup/
LOCATION:Powers Park\, 3153 Green Street\, Jacksonville\, FL\, 32205\, United States
CATEGORIES:Get Your Feet Wet,Volunteer
ATTACH;FMTTYPE=image/jpeg:https://stjohnsriverkeeper.org/wp-content/uploads/2026/04/2026-08-McCoys-Creek-Cleanup-600x600-1.jpg
END:VEVENT
BEGIN:VEVENT
DTSTART;TZID=America/New_York:20260906T100000
DTEND;TZID=America/New_York:20260906T120000
DTSTAMP:20260421T204957
CREATED:20260407T185744Z
LAST-MODIFIED:20260407T185744Z
UID:15668-1788688800-1788696000@stjohnsriverkeeper.org
SUMMARY:Blue Cypress Park Cleanup with Rising Tides
DESCRIPTION:Blue Cypress Park Cleanup with Rising Tides | Sunday\, September 6 from 10 a.m. – Noon | Blue Cypress Park (4012 University Blvd N)\nAs a part of Jax Parks Adopt-a-Park Program\, Rising Tides has adopted Blue Cypress Preserve Park in the Arlington area of Jacksonville. Every other month\, we will host a cleanup here during the first weekend of that month. We may be at different locations in the park each month – this month we will be cleaning up along the boardwalk. \nWhile these cleanups are hosted by Rising Tides\, our Young Professionals Group\, anyone and all ages are welcome to join. \nRSVP\nLet us know you plan to join us\, and sign the waiver in advance!
URL:https://stjohnsriverkeeper.org/event/2026-09-blue-cypress-park-cleanup-with-rising-tides/
LOCATION:Blue Cypress Park\, 4012 University Blvd N\, Jacksonville\, FL\, 32277\, United States
CATEGORIES:Get Your Feet Wet,Rising Tides,Volunteer
ATTACH;FMTTYPE=image/jpeg:https://stjohnsriverkeeper.org/wp-content/uploads/2026/04/2026-09-Blue-Cypress-Park-Cleanup-600x600-1.jpg
ORGANIZER;CN="Dryden Mills":MAILTO:dryden@stjohnsriverkeeper.org
END:VEVENT
BEGIN:VEVENT
DTSTART;TZID=America/New_York:20260919T090000
DTEND;TZID=America/New_York:20260919T110000
DTSTAMP:20260421T204957
CREATED:20260416T204956Z
LAST-MODIFIED:20260416T205030Z
UID:15737-1789808400-1789815600@stjohnsriverkeeper.org
SUMMARY:McCoys Creek Cleanup
DESCRIPTION:McCoys Creek Cleanup | Saturday\, September 19\, 2026 from 9-11 a.m. at Hollybrook Park\nJoin us for our monthly cleanup on McCoys Creek! As always\, all of our cleanups are RAIN or SHINE. These cleanups are open to everyone – the more the merrier! This is part of the International Coastal Cleanup. \nWhat to Bring:\n\nFULL Reusable Water Bottle\nHat\, Sunglasses\, Sunscreen\nClosed-toe shoes (required)\nRain boots\, work boots\, or waders are extremely helpful!\nOptional: Heavy duty gloves (if desired)\n\nCleanup gloves and bags will be provided by City of Jacksonville and Keep Jacksonville Beautiful. \nRSVP\nRSVP here to let us know you’re coming! \nIf you have any questions\, please contact Dryden Mills at dryden@stjohnsriverkeeper.org.
URL:https://stjohnsriverkeeper.org/event/2026-09-mccoys-creek-cleanup/
LOCATION:Hollybrook Park\, 319 Cherokee Street\, Jacksonville\, FL\, 32254
CATEGORIES:Get Your Feet Wet,Volunteer
ATTACH;FMTTYPE=image/jpeg:https://stjohnsriverkeeper.org/wp-content/uploads/2026/04/2026-09-McCoys-Creek-Cleanup-600x600-1.jpg
END:VEVENT
BEGIN:VEVENT
DTSTART;TZID=America/New_York:20261018T100000
DTEND;TZID=America/New_York:20261018T120000
DTSTAMP:20260421T204957
CREATED:20260416T205812Z
LAST-MODIFIED:20260416T205812Z
UID:15741-1792317600-1792324800@stjohnsriverkeeper.org
SUMMARY:McCoys Creek Cleanup
DESCRIPTION:McCoys Creek Cleanup | Sunday\, October 18\, 2026 from 10 a.m. – Noon at 2842 Edison Ave\nJoin us for our monthly cleanup on McCoys Creek! As always\, all of our cleanups are RAIN or SHINE. These cleanups are open to everyone – the more the merrier! \nWhat to Bring:\n\nFULL Reusable Water Bottle\nHat\, Sunglasses\, Sunscreen\nClosed-toe shoes (required)\nRain boots\, work boots\, or waders are extremely helpful!\nOptional: Heavy duty gloves (if desired)\n\nCleanup gloves and bags will be provided by City of Jacksonville and Keep Jacksonville Beautiful. \nRSVP\nRSVP here to let us know you’re coming! \nIf you have any questions\, please contact Dryden Mills at dryden@stjohnsriverkeeper.org.
URL:https://stjohnsriverkeeper.org/event/2026-10-mccoys-creek-cleanup/
LOCATION:2842 Edison Ave\, Jacksonville\, FL 32254\, 2842 Edison Avenue\, Jacksonville\, FL\, 32254\, United States
CATEGORIES:Get Your Feet Wet,Volunteer
ATTACH;FMTTYPE=image/jpeg:https://stjohnsriverkeeper.org/wp-content/uploads/2026/04/2026-10-McCoys-Creek-Cleanup-600x600-1.jpg
END:VEVENT
BEGIN:VEVENT
DTSTART;TZID=America/New_York:20261101T100000
DTEND;TZID=America/New_York:20261101T120000
DTSTAMP:20260421T204957
CREATED:20260407T190201Z
LAST-MODIFIED:20260407T190201Z
UID:15671-1793527200-1793534400@stjohnsriverkeeper.org
SUMMARY:Blue Cypress Park Cleanup with Rising Tides
DESCRIPTION:Blue Cypress Park Cleanup with Rising Tides | Sunday\, November 1 from 10 a.m. – Noon | Blue Cypress Park (4012 University Blvd N)\nAs a part of Jax Parks Adopt-a-Park Program\, Rising Tides has adopted Blue Cypress Preserve Park in the Arlington area of Jacksonville. Every other month\, we will host a cleanup here during the first weekend of that month. We may be at different locations in the park each month – this month we will be cleaning up along the boardwalk. \nWhile these cleanups are hosted by Rising Tides\, our Young Professionals Group\, anyone and all ages are welcome to join. \nRSVP\nLet us know you plan to join us\, and sign the waiver in advance!
URL:https://stjohnsriverkeeper.org/event/2026-11-blue-cypress-park-cleanup-with-rising-tides/
LOCATION:Blue Cypress Park\, 4012 University Blvd N\, Jacksonville\, FL\, 32277\, United States
CATEGORIES:Get Your Feet Wet,Rising Tides,Volunteer
ATTACH;FMTTYPE=image/jpeg:https://stjohnsriverkeeper.org/wp-content/uploads/2026/04/2026-11-Blue-Cypress-Park-Cleanup-600x600-1.jpg
ORGANIZER;CN="Dryden Mills":MAILTO:dryden@stjohnsriverkeeper.org
END:VEVENT
BEGIN:VEVENT
DTSTART;TZID=America/New_York:20261115T100000
DTEND;TZID=America/New_York:20261115T120000
DTSTAMP:20260421T204957
CREATED:20260417T140317Z
LAST-MODIFIED:20260417T140317Z
UID:15744-1794736800-1794744000@stjohnsriverkeeper.org
SUMMARY:McCoys Creek Cleanup
DESCRIPTION:McCoys Creek Cleanup | Sunday\, November 15\, 2026 from 10 a.m. – Noon at 168 S. Myrtle Ave\nJoin us for our monthly cleanup on McCoys Creek! As always\, all of our cleanups are RAIN or SHINE. These cleanups are open to everyone – the more the merrier! \nWhat to Bring:\n\nFULL Reusable Water Bottle\nHat\, Sunglasses\, Sunscreen\nClosed-toe shoes (required)\nRain boots\, work boots\, or waders are extremely helpful!\nOptional: Heavy duty gloves (if desired)\n\nCleanup gloves and bags will be provided by City of Jacksonville and Keep Jacksonville Beautiful. \nRSVP\nRSVP here to let us know you’re coming! \nIf you have any questions\, please contact Dryden Mills at dryden@stjohnsriverkeeper.org.
URL:https://stjohnsriverkeeper.org/event/2026-11-mccoys-creek-cleanup/
LOCATION:168 S Myrtle Ave\, 168 S Myrtle Ave\, Jacksonville\, FL\, 32204\, United States
CATEGORIES:Get Your Feet Wet,Volunteer
END:VEVENT
END:VCALENDAR