

BEGIN:VCALENDAR
VERSION:2.0
PRODID:-//St. Johns Riverkeeper - ECPv6.15.20//NONSGML v1.0//EN
CALSCALE:GREGORIAN
METHOD:PUBLISH
X-WR-CALNAME:St. Johns Riverkeeper
X-ORIGINAL-URL:https://stjohnsriverkeeper.org
X-WR-CALDESC:Events for St. Johns Riverkeeper
REFRESH-INTERVAL;VALUE=DURATION:PT1H
X-Robots-Tag:noindex
X-PUBLISHED-TTL:PT1H
BEGIN:VTIMEZONE
TZID:America/New_York
BEGIN:DAYLIGHT
TZOFFSETFROM:-0500
TZOFFSETTO:-0400
TZNAME:EDT
DTSTART:20250309T070000
END:DAYLIGHT
BEGIN:STANDARD
TZOFFSETFROM:-0400
TZOFFSETTO:-0500
TZNAME:EST
DTSTART:20251102T060000
END:STANDARD
BEGIN:DAYLIGHT
TZOFFSETFROM:-0500
TZOFFSETTO:-0400
TZNAME:EDT
DTSTART:20260308T070000
END:DAYLIGHT
BEGIN:STANDARD
TZOFFSETFROM:-0400
TZOFFSETTO:-0500
TZNAME:EST
DTSTART:20261101T060000
END:STANDARD
BEGIN:DAYLIGHT
TZOFFSETFROM:-0500
TZOFFSETTO:-0400
TZNAME:EDT
DTSTART:20270314T070000
END:DAYLIGHT
BEGIN:STANDARD
TZOFFSETFROM:-0400
TZOFFSETTO:-0500
TZNAME:EST
DTSTART:20271107T060000
END:STANDARD
END:VTIMEZONE
BEGIN:VEVENT
DTSTART;TZID=America/New_York:20260110T160000
DTEND;TZID=America/New_York:20260110T170000
DTSTAMP:20260420T143001
CREATED:20251210T175637Z
LAST-MODIFIED:20251216T161336Z
UID:15121-1768060800-1768064400@stjohnsriverkeeper.org
SUMMARY:Yoga Tour de Jax Fundraiser
DESCRIPTION:Yoga Tour de Jax Fundraiser | Saturday\, January 10 from 4-5 p.m. at Bold City Brewery\nJoin us for a calming evening of yoga\, community\, and conservation! We’re partnering with Ana Ng Panama of Yoga Tour de Jax for a special yoga class and happy hour mingle at Bold City Brewing. \nStarting at 4 p.m.\, Ana will lead a grounding 60-minute yoga session\, open to all levels. She is generously donating 50% of all ticket revenue to St. Johns Riverkeeper\, helping support our mission to protect and restore the St. Johns River. \nAfter class\, stick around to enjoy a beer or small bites from Bold City Brewing and connect with fellow river advocates. It’s the perfect blend of wellness\, community\, and environmental stewardship—right in the heart of our watershed. \nCome move\, breathe\, and support the river we all love! \nRegister\nRSVP here – tickets are $20.
URL:https://stjohnsriverkeeper.org/event/2026-01-fundraiser-yoga-tour-de-jax/
LOCATION:Bold City Brewery\, 2670-7 Rosselle Street\, Jacksonville\, FL\, 32204\, United States
CATEGORIES:Fundraiser,Get Your Feet Wet
ATTACH;FMTTYPE=image/jpeg:https://stjohnsriverkeeper.org/wp-content/uploads/2025/12/2026-01-Yoga-for-the-River-600x600-1.jpg
ORGANIZER;CN="Dryden Mills":MAILTO:dryden@stjohnsriverkeeper.org
END:VEVENT
END:VCALENDAR